BEGIN:VCALENDAR
VERSION:2.0
PRODID:-//evangelische-termine.de//NONSGML kigkonsult.se iCalcreator 2.18//
CALSCALE:GREGORIAN
METHOD:PUBLISH
X-WR-CALNAME:iCal Evangelische-Termine 20.04.2026
X-WR-CALDESC:iCalender von Evangelische-Termine (20.04.2026)
X-WR-TIMEZONE:Europe/Berlin
X-MS-OLK-FORCEINSPECTOROPEN:TRUE
BEGIN:VTIMEZONE
TZID:Europe/Berlin
BEGIN:STANDARD
DTSTART:19701025T030000
TZOFFSETFROM:+0200
TZOFFSETTO:+0100
RRULE:FREQ=YEARLY;BYDAY=-1SU;BYMONTH=10
TZNAME:CET
END:STANDARD
BEGIN:DAYLIGHT
DTSTART:19700329T020000
TZOFFSETFROM:+0100
TZOFFSETTO:+0200
RRULE:FREQ=YEARLY;BYDAY=-1SU;BYMONTH=3
TZNAME:CEST
END:DAYLIGHT
END:VTIMEZONE
BEGIN:VEVENT
UID:20240904T190000-823535@evangelische-termine.de
DTSTAMP:20260420T003546Z
DESCRIPTION:\nKirchenkreis: überregional\nArt der Veranstaltung: Fortbildun
 gen / Seminare / Vorträge\nVeranstaltungsort: online\n- -\nKurzbeschreibun
 g / Untertitel: Hier erfahren Sie mehr über unsere Workshopreihe: Nach ein
 er kurzen Vorstellung der einzelnen Workshops haben Sie die Möglichkeit\, 
 Fragen dazu zu stellen. - Dr. Marion Krames\, Carola Schick\nAusführliche 
 Beschreibung: Erleben Sie fünf spannende Veranstaltungen\, in denen Sie Ih
 re Fähigkeiten im wirkungsvollen Auftreten\, spontanen Sprechen und überze
 ugenden Präsentieren weiterentwickeln können! Die vier interaktiven Worksh
 ops vermitteln vielseitiges Wissen\, das Sie gleich in praktischen Übungen
  anwenden können. Individuelles Feedback von den anderen Teilnehmerinnen u
 nd von der Kursleitung hilft Ihnen\, Ihre eigenen Stärken und Verbesserung
 spotenziale zu erkennen. In der Abschlussveranstaltung erhalten Sie die Ge
 legenheit\, ein Thema allein oder im Team vor Publikum zu präsentieren. Di
 ese Workshops sind genau das Richtige\, wenn Sie im Beruf\, im Ehrenamt od
 er auch im privaten Bereich besser kommunizieren\, argumentieren und präse
 ntieren möchten. Die Workshops sind einzeln oder auch als Reihe buchbar.\n
 Termine:\n\n04.09.2024\, 19:00-20:00 Uhr: Kostenlose Info-Veranstaltung fü
 r die Workshopreihe\nErfahren Sie mehr über unsere Workshopreihe „Kommunik
 ations- und Präsentationstraining für Frauen“. Hier werden die einzelnen W
 orkshops unverbindlich vorgestellt und Sie haben die Möglichkeit\, Ihre Fr
 agen dazu zu stellen.\n\n21.09.2024\, 09:30-17:00 Uhr: Souverän und sicher
 : Eigene Anliegen und Meinungen überzeugend kommunizieren\nIhre Stimme zäh
 lt – machen Sie sie hörbar! In diesem Workshop für Frauen lernen Sie\, wie
  Sie Ihre Anliegen wirkungsvoll und selbstbewusst kommunizieren können.\n
 \n30.11.2024\,0 9:30-17:00 Uhr: Alles eine Sache der Psychologie – Gestalt
 ung ansprechender Präsentationen\nLernen Sie in diesem praxisorientierten 
 Workshop für Frauen\, mit PowerPoint und Canva ansprechende Präsentationen
  zu erstellen\, die im Gedächtnis bleiben.\n\n18.01.2025\, 09:30-17:00 Uhr
 : Redekunst: Praktische Tipps für starke Argumente und packende Geschichte
 n\nTauchen Sie ein in unseren Tagesworkshop für Frauen und lernen Sie\, wi
 e Sie spontane Redebeiträge argumentativ stark aufbauen und durch Erzählpa
 ssagen lebendig gestalten können.\n\n22.03.2025\, 09:30-17:00 Uhr: Spannen
 de Vorträge leicht gemacht – mit Rhetorik und KI-Unterstützung\nWie lassen
  sich Vorträge optimal aufbauen und Inhalte spannend und sprachlich prägna
 nt vermitteln? Und welche Möglichkeiten bietet eigentlich Künstliche Intel
 ligenz wie ChatGPT\, Perplexity und Co. dafür?\n\n05.04.2025\, 09:30-14:00
  Uhr: Kostenlose Abschlussveranstaltung: Präsentieren Sie Ihr Thema!\nNutz
 en Sie die Gelegenheit\, Ihr Thema allein oder im Team vor Publikum zu prä
 sentieren und wertvolle praktische Erfahrungen zu sammeln!\nFörderbereich:
  Schlüsselqualifikationen mit den Komponenten Sprachen und Medien\nReferen
 t/in: Dr. Marion Krames\nAnsprechpartner/in - Leitung: Dr. Marion Krames\n
 Kosten: kostenlos\nZusatzinformationen: Anmeldeschluss: 03.09.2024\n: \nAn
 sprechpartner: Dr. Marion Krames marion.krames@ekir.de\n06761-9679734
DTSTART;TZID=Europe/Berlin:20240904T190000
DTEND;TZID=Europe/Berlin:20240904T200000
LOCATION:-: online
SUMMARY:Infoveranstaltung für die Workshopreihe „Kommunikations- und Präsen
 tationstraining für Frauen“
URL:https://termine.ekir.de/veranstaltung_im_detail823535.html
END:VEVENT
END:VCALENDAR
