BEGIN:VCALENDAR
VERSION:2.0
PRODID:-//evangelische-termine.de//NONSGML kigkonsult.se iCalcreator 2.18//
CALSCALE:GREGORIAN
METHOD:PUBLISH
X-WR-CALNAME:iCal Evangelische-Termine 20.04.2026
X-WR-CALDESC:iCalender von Evangelische-Termine (20.04.2026)
X-WR-TIMEZONE:Europe/Berlin
X-MS-OLK-FORCEINSPECTOROPEN:TRUE
BEGIN:VTIMEZONE
TZID:Europe/Berlin
BEGIN:STANDARD
DTSTART:19701025T030000
TZOFFSETFROM:+0200
TZOFFSETTO:+0100
RRULE:FREQ=YEARLY;BYDAY=-1SU;BYMONTH=10
TZNAME:CET
END:STANDARD
BEGIN:DAYLIGHT
DTSTART:19700329T020000
TZOFFSETFROM:+0100
TZOFFSETTO:+0200
RRULE:FREQ=YEARLY;BYDAY=-1SU;BYMONTH=3
TZNAME:CEST
END:DAYLIGHT
END:VTIMEZONE
BEGIN:VEVENT
UID:20240925T163000-827679@evangelische-termine.de
DTSTAMP:20260420T002207Z
DESCRIPTION:\nKirchenkreis: überregional\nArt der Veranstaltung: Fortbildun
 gen / Seminare / Vorträge\nVeranstaltungsort: Neues Schloss Simmern\nAm Sc
 hlossplatz 4-8\n55469 Simmern\nKurzbeschreibung / Untertitel: Dr. Dr. h.c.
  Markus Dröge beleuchtet in seinem Vortrag\, wie evangelische Bildungsarbe
 it Bürgerinnen und Bürger stärken kann\, Demokratie und Menschenrechte zu 
 verteidigen.\nAusführliche Beschreibung: Wir laden Sie herzlich ein zu ein
 em Vortrag von Dr. Dr. h.c. Markus Dröge\, dem ehemaligen Bischof der Evan
 gelischen Kirche Berlin-Brandenburg-schlesische Oberlausitz und ehemaligen
  Superintendenten des Kirchenkreises Koblenz:\n\nChristinnen und Christen 
 können sich mit dem Menschenverständnis des seit 75 Jahren bewährten Grund
 gesetzes und den dort formulierten Grundrechten gut identifizieren. Allerd
 ings müssen wir aktuell beobachten\, dass in unserer Gesellschaft die Tend
 enzen zugenommen haben\, dieses Wertegerüst mit autoritären Politikverstän
 dnissen und nationalistischen Ideologien anzugreifen\, vielfach verbunden 
 mit menschenverachtenden Thesen. Evangelische Bildungsarbeit muss sich kri
 tisch und in offensiver Weise mit dieser Gefährdung des gesellschaftlichen
  Zusammenlebens auseinandersetzen. Sie muss Bürgerinnen und Bürger unterst
 ützen\, sich selbstverantwortlich in Familie\, Beruf und gesellschaftliche
 m Leben aktiv für die tragenden Grundwerte einzusetzen. Gerade eine evange
 lische Bildungsarbeit\, die der Gewissensfreiheit und einer autoritätskrit
 ischen Haltung verpflichtet ist\, ist hier in die Verantwortung gerufen.\n
 \nDieser Vortrag bietet die Gelegenheit\, ins Gespräch zu kommen und Ideen
  für die eigene Bildungsarbeit sowie Handlungsmöglichkeiten für den Alltag
  mitzunehmen.\nWir freuen uns auf Ihre Teilnahme im Neuen Schloss Simmern.
 \n\nDer Referent:\nDr. Dr. h.c. Markus Dröge engagiert sich seit vielen Ja
 hren aktiv gegen Rechtspopulismus. Er hat zahlreiche Vorträge zur Rolle de
 r Kirche in der Auseinandersetzung mit extremistischen Ideologien gehalten
  und betont die Verantwortung von Christinnen und Christen\, sich für Demo
 kratie und Menschenrechte einzusetzen.\nFörderbereich: Politische Bildung
 \nReferent/in: Bischof i. R. Dr. Dr. h.c. Markus Dröge\nAnsprechpartner/in
  - Leitung: Dr. Marion Krames\nKosten: kostenlos
DTSTART;TZID=Europe/Berlin:20240925T163000
DTEND;TZID=Europe/Berlin:20240925T180000
LOCATION:Simmern: Neues Schloss Simmern
SUMMARY:75 Jahre Grundgesetz. Demokratie\, Menschenrechte und Freiheit vert
 eidigen als Auftrag evangelischer Bildungsarbeit :: Der Vortrag beleuchtet
 \, wie evangelische Bildungsarbeit Bürgerinnen und Bürger stärken kann\, D
 emokratie und Menschenrechte zu verteidigen.
URL:https://termine.ekir.de/veranstaltung_im_detail827679.html
END:VEVENT
END:VCALENDAR
