BEGIN:VCALENDAR
VERSION:2.0
PRODID:-//evangelische-termine.de//NONSGML kigkonsult.se iCalcreator 2.18//
CALSCALE:GREGORIAN
METHOD:PUBLISH
X-WR-CALNAME:iCal Evangelische-Termine 20.04.2026
X-WR-CALDESC:iCalender von Evangelische-Termine (20.04.2026)
X-WR-TIMEZONE:Europe/Berlin
X-MS-OLK-FORCEINSPECTOROPEN:TRUE
BEGIN:VTIMEZONE
TZID:Europe/Berlin
BEGIN:STANDARD
DTSTART:19701025T030000
TZOFFSETFROM:+0200
TZOFFSETTO:+0100
RRULE:FREQ=YEARLY;BYDAY=-1SU;BYMONTH=10
TZNAME:CET
END:STANDARD
BEGIN:DAYLIGHT
DTSTART:19700329T020000
TZOFFSETFROM:+0100
TZOFFSETTO:+0200
RRULE:FREQ=YEARLY;BYDAY=-1SU;BYMONTH=3
TZNAME:CEST
END:DAYLIGHT
END:VTIMEZONE
BEGIN:VEVENT
UID:20241112T190000-836934@evangelische-termine.de
DTSTAMP:20260419T225942Z
DESCRIPTION:\nKirchenkreis: überregional\nArt der Veranstaltung: Fortbildun
 gen / Seminare / Vorträge\nVeranstaltungsort: online\n- -\nKurzbeschreibun
 g / Untertitel: Der Vortrag bietet einen Überblick über Formen der digital
 en Gewalt und zeigt anhand von konkreten Beispielen auf\, was man dagegen 
 tun kann. - Nils Peter (SoliNet)\nAusführliche Beschreibung: Nils Peter vo
 n SoliNet gibt in seinem Vortrag einen Überblick über das Themenfeld 'Digi
 tale Gewalt' und vermittelt grundlegendes Basiswissen in diesem Bereich. N
 eben den Formen und Ausprägungen liegt ein besonderer Fokus auf Frauen als
  Betroffene digitaler Gewalt. Präventive und intervenierende Handlungsmögl
 ichkeiten werden anhand 'alltäglicher Beispiele' aufgezeigt. Im Anschluss 
 besteht die Möglichkeit für Fragen und Diskussion.\n----------------------
 -----\nSoliNet richtet sich an Betroffene von digitaler Gewalt und bietet 
 psychosoziale Online-Beratung. Zu den Themen gehören die emotionale Unters
 tützung\, Informationen und technische Unterstützung zu den Themenfeldern 
 Beweissicherung\, Löschen von Inhalten\, rechtliche Vorgehensweise sowie T
 ipps zur Online-Sicherheit und Kommunikation.\n\nDie Beratungsstelle SoliN
 et – gegen Hass und Gewalt im Netz in Rheinland-Pfalz wurde im September 2
 021 eröffnet und bildet einen Teil von der Fachstelle m*power Koblenz. Als
  Rechtsträger von m*power fungiert der partei- und konfessionsunabhängige 
 Verein „Projekt Arbeit und Leben e.V.“. Gefördert wird SoliNet durch das M
 inisterium für Familie\, Frauen\, Kultur und Integration und bildet einen 
 Teil des Landesaktionsplans gegen Rassismus und Gruppenbezogene Menschenfe
 indlichkeit für Rheinland-Pfalz.\nFörderbereich: Politische Bildung\nRefer
 ent/in: Nils Peter (SoliNet)\nAnsprechpartner/in - Leitung: Dr. Marion Kra
 mes\nKosten: kostenlos\nZusatzinformationen: Anmeldung bis zum 10.11.2024
 \n: 
DTSTART;TZID=Europe/Berlin:20241112T190000
DTEND;TZID=Europe/Berlin:20241112T203000
LOCATION:-: online
SUMMARY:Digitale Gewalt. Was ist das und wie schütze ich mich? - abgesagt :
 : Der Vortrag bietet einen Überblick über Formen der digitalen Gewalt und 
 zeigt anhand von konkreten Beispielen auf\, was man dagegen tun kann.
URL:https://termine.ekir.de/veranstaltung_im_detail836934.html
END:VEVENT
END:VCALENDAR
