BEGIN:VCALENDAR
VERSION:2.0
PRODID:-//evangelische-termine.de//NONSGML kigkonsult.se iCalcreator 2.18//
CALSCALE:GREGORIAN
METHOD:PUBLISH
X-WR-CALNAME:iCal Evangelische-Termine 20.04.2026
X-WR-CALDESC:iCalender von Evangelische-Termine (20.04.2026)
X-WR-TIMEZONE:Europe/Berlin
X-MS-OLK-FORCEINSPECTOROPEN:TRUE
BEGIN:VTIMEZONE
TZID:Europe/Berlin
BEGIN:STANDARD
DTSTART:19701025T030000
TZOFFSETFROM:+0200
TZOFFSETTO:+0100
RRULE:FREQ=YEARLY;BYDAY=-1SU;BYMONTH=10
TZNAME:CET
END:STANDARD
BEGIN:DAYLIGHT
DTSTART:19700329T020000
TZOFFSETFROM:+0100
TZOFFSETTO:+0200
RRULE:FREQ=YEARLY;BYDAY=-1SU;BYMONTH=3
TZNAME:CEST
END:DAYLIGHT
END:VTIMEZONE
BEGIN:VEVENT
UID:20241008T190000-838669@evangelische-termine.de
DTSTAMP:20260420T000924Z
DESCRIPTION:\nKirchenkreis: überregional\nArt der Veranstaltung: Fortbildun
 gen / Seminare / Vorträge\nVeranstaltungsort: Stadtbücherei Kirn\nWilhem-D
 röscher-Platz 1\n55606 Kirn\nKurzbeschreibung / Untertitel: Ein Vortrag mi
 t anschließendem Austausch der Bundeszentrale für politische Bildung in de
 r Stadtbücherei Kirn\nAusführliche Beschreibung: Nicht nur bekennende Anhä
 nger*innen des Nationalsozialismus\, sondern\nauch die sogenannte „Neue Re
 chte“ beschäftigt sich mit ökologischen\nThemen. Oft werden bei ihnen rück
 wärtsgewandte Konzepte mit progressiven\nElementen wie zum Beispiel Postwa
 chstumsökonomie\, Bioregionalismus und\nNachhaltigkeitskonzepten verbunden
 . Das Seminar beleuchtet die\nArgumentationsweisen neu-rechter Akteur*inne
 n und Gruppierungen und\nwirft einen Blick auf deren mediales Erscheinungs
 bild. Die\nTeilnehmer*innen lernen unterschiedliche neu-rechte Akteur*inne
 n kennen\nund setzen sich mit deren Engagement für Natur- und Umweltschutz
 \nauseinander. Die Teilnehmenden werden für Argumentationsmuster\nsensibil
 isiert\, die auf den ersten Blick nicht so leicht als\nrechtsextrem erkann
 t werden.\nInternetadresse (eigene Infos im Internet): http://www.nf-farn.
 de/\nFörderbereich: Politische Bildung\nReferent/in: FARN – Fachstelle Rad
 ikalisierungsprävention und Engagement im Naturschutz\ninfo@nf-farn.de\nww
 w.naturfreunde.de\nAnsprechpartner/in - Leitung: Stadtbücherei Kirn in Koo
 peration mit der Ev. Erwachsenenbildungswerk Rheinland-Süd e.V.\nKosten: k
 ostenfrei\nZusatzinformationen: Anmeldung bei der Stadtbücherei in Kirn un
 ter buecherei@kirn.de oder Tel. 06752 1356200
DTSTART;TZID=Europe/Berlin:20241008T190000
DTEND;TZID=Europe/Berlin:20241008T200000
LOCATION:Kirn: Stadtbücherei Kirn
SUMMARY:Ökologie in der „Neuen Rechten“ :: Eine in Kooperation mit der Bund
 eszentrale für politische Bildung\, dem Deutsche Bibliotheksverband e.V.
URL:https://termine.ekir.de/veranstaltung_im_detail838669.html
END:VEVENT
END:VCALENDAR
