BEGIN:VCALENDAR
VERSION:2.0
PRODID:-//evangelische-termine.de//NONSGML kigkonsult.se iCalcreator 2.18//
CALSCALE:GREGORIAN
METHOD:PUBLISH
X-WR-CALNAME:iCal Evangelische-Termine 20.04.2026
X-WR-CALDESC:iCalender von Evangelische-Termine (20.04.2026)
X-WR-TIMEZONE:Europe/Berlin
X-MS-OLK-FORCEINSPECTOROPEN:TRUE
BEGIN:VTIMEZONE
TZID:Europe/Berlin
BEGIN:STANDARD
DTSTART:19701025T030000
TZOFFSETFROM:+0200
TZOFFSETTO:+0100
RRULE:FREQ=YEARLY;BYDAY=-1SU;BYMONTH=10
TZNAME:CET
END:STANDARD
BEGIN:DAYLIGHT
DTSTART:19700329T020000
TZOFFSETFROM:+0100
TZOFFSETTO:+0200
RRULE:FREQ=YEARLY;BYDAY=-1SU;BYMONTH=3
TZNAME:CEST
END:DAYLIGHT
END:VTIMEZONE
BEGIN:VEVENT
UID:20241114T190000-841917@evangelische-termine.de
DTSTAMP:20260419T230053Z
DESCRIPTION:\nKirchenkreis: überregional\nArt der Veranstaltung: Fortbildun
 gen / Seminare / Vorträge\nVeranstaltungsort: Gemeindehaus der Ev. Kirchen
 gemeinde Kirn\nHedwigsgärten 2\n55606 Kirn\nKurzbeschreibung / Untertitel:
  Zeitzeugin Henriette Kretz im Gespräch mit dem Autor Reiner Engelmann\nAu
 sführliche Beschreibung: Ein neuer Termin ist evtl. geplant für November 2
 025.\n\n„Ich wünsche den jungen Menschen\, dass sie in einer friedlicheren
  Welt leben können\, dass sie selbst für ihre Zukunft einen besseren Weg w
 ählen können. Das ist meine Hoffnung.“\nHENRIETTE KRETZ wurde 1934 in eine
 r jüdischen Familie in Polen geboren. Die Verfolgung ihrer Familie begann 
 unmittelbar mit dem deutschen Überfall auf Polen im September 1939. Immer 
 wieder musste die Familie vor den heranrückenden Deutschen fliehen. Mehrma
 ls entkamen sie der Deportation\, aber schließlich wurde das Versteck der 
 Familie verraten. Nach dem Tod ihrer Eltern konnte sich Henriette in einem
  Waisenhaus verstecken und überlebte die Zeit des NS-Terrors.\n2009 lernte
  sie den Autor Reiner Engelmann kennen\, der mit ihr zusammen das Buchproj
 ekt „Hass und Versöhnung“ realisierte. Das Buch schildert die Begegnung zw
 ischen der Holocaust-Überlebenden Henriette und Emil\, einem Aussteiger au
 s der Neonazi-Szene. Sie erzählen sich gegenseitig ihre Geschichte – und f
 inden einen Weg zur Versöhnung. Das Buch dokumentiert in beeindruckender W
 eise\, dass Hass nur Leid und Zerstörung bringt – dass aber Versöhnung mög
 lich wird dort\, wo Menschen einander zuhören.\nREINER ENGELMANN wurde 195
 2 in Völkenroth geboren. Nach dem Studium der Sozialpädagogik war er im Sc
 huldienst tätig\, wo er sich besonders in den Bereichen der Leseförderung\
 , der Gewaltprävention und der Kinder- und Menschenrechtsbildung starkmach
 te. Als Autor schreibt er u.a. Bücher über Überlebende der nationalsoziali
 stischen Verfolgung. Er hat es sich zur Aufgabe gemacht\, die bewegenden S
 chicksale der Überlebenden vor allem Jugendlichen zugänglich zu machen und
  sie für gesellschaftliche Brennpunktthemen zu sensibilisieren\, wie seine
  zahlreichen Veröffentlichungen zeigen.\nFörderbereich: Politische Bildung
 \nReferent/in: Henriette Kretz und Reiner Engelmann\nAnsprechpartner/in - 
 Leitung: Ev. Erwachsenenbildungswerk Rheinland-Süd e.V.\nKirsten Arnswald
 \nKosten: kostenfrei\nZusatzinformationen: Anmeldung nicht erforderlich.
DTSTART;TZID=Europe/Berlin:20241114T190000
DTEND;TZID=Europe/Berlin:20241114T200000
LOCATION:Kirn: Gemeindehaus der Ev. Kirchengemeinde Kirn
SUMMARY:Eine Kindheit im Schatten des Holocaust :: Zeitzeugin Henriette Kre
 tz im Gespräch mit dem Autor Reiner Engelmann
URL:https://termine.ekir.de/veranstaltung_im_detail841917.html
END:VEVENT
END:VCALENDAR
