BEGIN:VCALENDAR
VERSION:2.0
PRODID:-//evangelische-termine.de//NONSGML kigkonsult.se iCalcreator 2.18//
CALSCALE:GREGORIAN
METHOD:PUBLISH
X-WR-CALNAME:iCal Evangelische-Termine 20.04.2026
X-WR-CALDESC:iCalender von Evangelische-Termine (20.04.2026)
X-WR-TIMEZONE:Europe/Berlin
X-MS-OLK-FORCEINSPECTOROPEN:TRUE
BEGIN:VTIMEZONE
TZID:Europe/Berlin
BEGIN:STANDARD
DTSTART:19701025T030000
TZOFFSETFROM:+0200
TZOFFSETTO:+0100
RRULE:FREQ=YEARLY;BYDAY=-1SU;BYMONTH=10
TZNAME:CET
END:STANDARD
BEGIN:DAYLIGHT
DTSTART:19700329T020000
TZOFFSETFROM:+0100
TZOFFSETTO:+0200
RRULE:FREQ=YEARLY;BYDAY=-1SU;BYMONTH=3
TZNAME:CEST
END:DAYLIGHT
END:VTIMEZONE
BEGIN:VEVENT
UID:20241115T180000-842280@evangelische-termine.de
DTSTAMP:20260419T225854Z
DESCRIPTION:\nKirchenkreis: Simmern-Trarbach\nArt der Veranstaltung: Fortbi
 ldungen / Seminare / Vorträge\nVeranstaltungsort: Ev. Gemeindehaus Kastell
 aun\nKirchplatz 2\n56288 Kastellaun\nKurzbeschreibung / Untertitel: Ev. Ge
 meindehaus Kastellaun\nAusführliche Beschreibung: Sind wirklich alle junge
 n Menschen dynamisch und sprunghaft und alle alten Menschen starrsinnig un
 d ruhig? Wir denken: Nein! Menschen sind unterschiedlich\, und dazu gibt e
 s viel zu erzählen. Welche Geschichten stehen dahinter\, was verbinden wir
  in unserem Leben mit älter werden oder jung sein?\nEin Abend mit Bildern\
 , Fragen\, Impulsen\, Segen und Abendessen (Schnittchen und Gemüse-Dips). 
 Und Zeit für Begegnungen und Austausch zwischen Jüngeren und Älteren – in 
 kleinen Gruppen.\nWir freuen uns auf euch!\nFörderbereich: Abschluss- und 
 schulabschlussbezogene Bildung\nReferent/in: Evangelische Jugend & Gemeind
 epädagogik im Kirchenkreis Simmern-Trarbach\nAnsprechpartner/in - Leitung:
  Anja Rinas\nZusatzinformationen: Anmeldung oder spontan vorbei kommen.\na
 nja.rinas@ekir.de\nTel. 06761 14840
DTSTART;TZID=Europe/Berlin:20241115T180000
DTEND;TZID=Europe/Berlin:20241115T200000
LOCATION:Kastellaun: Ev. Gemeindehaus Kastellaun
SUMMARY:Boomer vs GenZ :: Altersbilder – Was heißt schon alt – was heißt sc
 hon jung?
URL:https://termine.ekir.de/veranstaltung_im_detail842280.html
END:VEVENT
END:VCALENDAR
