BEGIN:VCALENDAR
VERSION:2.0
PRODID:-//evangelische-termine.de//NONSGML kigkonsult.se iCalcreator 2.18//
CALSCALE:GREGORIAN
METHOD:PUBLISH
X-WR-CALNAME:iCal Evangelische-Termine 21.04.2026
X-WR-CALDESC:iCalender von Evangelische-Termine (21.04.2026)
X-WR-TIMEZONE:Europe/Berlin
X-MS-OLK-FORCEINSPECTOROPEN:TRUE
BEGIN:VTIMEZONE
TZID:Europe/Berlin
BEGIN:STANDARD
DTSTART:19701025T030000
TZOFFSETFROM:+0200
TZOFFSETTO:+0100
RRULE:FREQ=YEARLY;BYDAY=-1SU;BYMONTH=10
TZNAME:CET
END:STANDARD
BEGIN:DAYLIGHT
DTSTART:19700329T020000
TZOFFSETFROM:+0100
TZOFFSETTO:+0200
RRULE:FREQ=YEARLY;BYDAY=-1SU;BYMONTH=3
TZNAME:CEST
END:DAYLIGHT
END:VTIMEZONE
BEGIN:VEVENT
UID:20241113T190000-845728@evangelische-termine.de
DTSTAMP:20260421T125332Z
DESCRIPTION:\nKirchenkreis: Simmern-Trarbach\nArt der Veranstaltung: Fortbi
 ldungen / Seminare / Vorträge\nVeranstaltungsort: Evangelisches Gemeindeha
 us Bell\nBeller Hauptstraße 19\n56288 Bell\nAusführliche Beschreibung: Vor
  250 Jahren wurde der Maler Caspar David Friedrich geboren. Künstlerisch e
 in Vertreter der deutschen Romantik ging er doch seine ganz eigenen Wege\,
  geprägt durch einschneidende biographische Erlebnisse und durch seinen ch
 ristlichen Glauben. Anhand ausgewählter Bilder nähern wir uns dem Maler un
 d seiner Spiritualität an. Dabei vertiefen wir unsere Eindrücke mit Musik.
 \nDie Veranstaltung wird organisiert von der Ev. Kirchengemeinde Zehn Türm
 e.\nFörderbereich: Religiöse Bildung\, Religionen\, Theologie\, Ethik\, Gr
 enzfragen\nReferent/in: Pfarrerin Frauke Flöth-Paulus und Lena Ruzicka (Mu
 sik)\nAnsprechpartner/in - Leitung: Frauke Flöth-Paulus\nKosten: kostenlos
DTSTART;TZID=Europe/Berlin:20241113T190000
DTEND;TZID=Europe/Berlin:20241113T203000
LOCATION:Bell: Evangelisches Gemeindehaus Bell
SUMMARY:Ewigkeit im Blick: Caspar David Friedrich in Bild und Klang :: Wir 
 beleuchten die spirituelle Tiefe der Bilder von Caspar David Friedrich und
  ergänzen sie mit Musik.
URL:https://termine.ekir.de/veranstaltung_im_detail845728.html
END:VEVENT
END:VCALENDAR
