BEGIN:VCALENDAR
VERSION:2.0
PRODID:-//evangelische-termine.de//NONSGML kigkonsult.se iCalcreator 2.18//
CALSCALE:GREGORIAN
METHOD:PUBLISH
X-WR-CALNAME:iCal Evangelische-Termine 20.04.2026
X-WR-CALDESC:iCalender von Evangelische-Termine (20.04.2026)
X-WR-TIMEZONE:Europe/Berlin
X-MS-OLK-FORCEINSPECTOROPEN:TRUE
BEGIN:VTIMEZONE
TZID:Europe/Berlin
BEGIN:STANDARD
DTSTART:19701025T030000
TZOFFSETFROM:+0200
TZOFFSETTO:+0100
RRULE:FREQ=YEARLY;BYDAY=-1SU;BYMONTH=10
TZNAME:CET
END:STANDARD
BEGIN:DAYLIGHT
DTSTART:19700329T020000
TZOFFSETFROM:+0100
TZOFFSETTO:+0200
RRULE:FREQ=YEARLY;BYDAY=-1SU;BYMONTH=3
TZNAME:CEST
END:DAYLIGHT
END:VTIMEZONE
BEGIN:VEVENT
UID:20250214T180000-853494@evangelische-termine.de
DTSTAMP:20260420T140148Z
DESCRIPTION:\nOrt: Gemeindezentrum Erlöserkirche Weidenpesch\nDerfflingerst
 r. 9\n50737 Köln\nArt der Veranstaltung: Sonstiges\nWeitere Informationen:
  Zusammensein mit Musik und Stationen\nzum Gespräch\, Austausch\,\nErmutig
 ung und Segen.\nFür Paare\, ob junge oder in die\nJahre gekommene\, für al
 le\, die\neinem anderen Menschen Danke\nsagen wollen für eine gelungene\nB
 eziehung\, eine kostbare Freundschaft\,\neine gute Nachbarschaft.\nAusklan
 g zu Ehren der Liebenden\nund der Freundschaft im nahegelegenen\nBrauhaus.
  Voranmeldung\nim Gemeindebüro erbeten!
DTSTART;TZID=Europe/Berlin:20250214T180000
DTEND;TZID=Europe/Berlin:20250214T190000
LOCATION:Köln: Gemeindezentrum Erlöserkirche Weidenpesch
SUMMARY:„Aber die Liebe ist die Größte unter ihnen!“ :: Ein Abend für die L
 iebe zum Valentinstag.
URL:https://termine.ekir.de/veranstaltung_im_detail853494.html
END:VEVENT
END:VCALENDAR
