BEGIN:VCALENDAR
VERSION:2.0
PRODID:-//evangelische-termine.de//NONSGML kigkonsult.se iCalcreator 2.18//
CALSCALE:GREGORIAN
METHOD:PUBLISH
X-WR-CALNAME:iCal Evangelische-Termine 19.04.2026
X-WR-CALDESC:iCalender von Evangelische-Termine (19.04.2026)
X-WR-TIMEZONE:Europe/Berlin
X-MS-OLK-FORCEINSPECTOROPEN:TRUE
BEGIN:VTIMEZONE
TZID:Europe/Berlin
BEGIN:STANDARD
DTSTART:19701025T030000
TZOFFSETFROM:+0200
TZOFFSETTO:+0100
RRULE:FREQ=YEARLY;BYDAY=-1SU;BYMONTH=10
TZNAME:CET
END:STANDARD
BEGIN:DAYLIGHT
DTSTART:19700329T020000
TZOFFSETFROM:+0100
TZOFFSETTO:+0200
RRULE:FREQ=YEARLY;BYDAY=-1SU;BYMONTH=3
TZNAME:CEST
END:DAYLIGHT
END:VTIMEZONE
BEGIN:VEVENT
UID:20250326T090000-854636@evangelische-termine.de
DTSTAMP:20260419T211215Z
DESCRIPTION:\nKirchenkreis: überregional\nArt der Veranstaltung: Fortbildun
 gen / Seminare / Vorträge\nVeranstaltungsort: Ev. Erwachsenenbildungswerk 
 Rheinland-Süd e.V.\, Simmern\nHerzog-Reichard-Str. 30\n55469 Simmern\nKurz
 beschreibung / Untertitel: Die „Bewegte Sprache“ ist als Intensivkurs konz
 ipiert für Kinder im vorletzten Kindergartenjahr\nAusführliche Beschreibun
 g: Sprache ist das wichtigste Mittel zur Verständigung! \nMithilfe der Spr
 ache entdecken Kinder die Welt\, teilen sich anderen Menschen mit und knüp
 fen soziale Beziehungen. Die Erfahrung von Bewegung und ein gutes Körperge
 fühl sind wichtige Grundlagen für die Sprachentwicklung. Das Konzept der B
 ewegten Sprache setzt genau hier an und bringt Sprache und Bewegung in Ver
 bindung und unterstützt Sie im Alltag mit den Kindern. \nZielgruppe \nDie 
 Bewegte Sprache ist als ganzheitlicher Intensivkurs konzipiert für Kinder 
 im vorletzten Kindergartenjahr mit besonderem Förderbedarf in der sprachli
 chen\, motorischen\, emotionalen und sozialen Kompetenz.  \nDie Inhalte si
 nd nicht nur als festes Kurskonzept zu nutzen. In weiten Teilen und mit de
 n vielfältigen und ansprechenden Arbeitsmaterialien sind sie auch in der t
 äglichen Arbeit und in der Förderung im Vorschulbereich einsetzbar.   \nKo
 nzept \nDie einzelnen Elemente der Bewegten Sprache sind darauf ausgericht
 et\, die Kinder immer dort abholen zu können\, wo sie sich in ihrer Entwic
 klung gerade befinden. Von diesem individuellen Punkt an werden ihnen Anre
 ize gegeben\, sich weiterzuentwickeln\, Neues auszuprobieren in der Sicher
 heit\, auch Fehler machen zu dürfen\, und so ihre eigenen Schritte weiterz
 ugehen. \nTragfähige Beziehungen\, die Erfahrung von Bewegung und ein gute
 s  Körpergefühl sind wichtige Grundlagen für die Sprachentwicklung. Die Fö
 rderung der sprachlichen und der motorischen Entwicklung wird daher in der
  Bewegten Sprache miteinander verknüpft und erweitert durch die Stärkung d
 er Persönlichkeit\, die Befähigung zum Aufbau von Beziehungen und den resp
 ektvollen Umgang miteinander. \nDie Kinder lernen\, eigene Gefühle auszudr
 ücken\, dem anderen zuzuhören\, ihn zu verstehen und sich selbst verständl
 ich zu machen. Sie entwickeln die Fähigkeit\, mit Fehlern umzugehen und Ve
 ränderungen\, Herausforderungen und Misserfolge zu meistern (Resilienz). D
 as bewahrt vor Hilflosigkeit\, Resignation und in der Folge auch vor Aggre
 ssion und Gewalt. \nInhalte der Fortbildung \nDie Fortbildung vermittelt d
 en pädagogischen Ansatz und das inhaltliche Konzept der Bewegten Sprache u
 nd führt in die Arbeit mit dem Handbuch ein.\nWeitere Infos: siehe Program
 mheft\nFörderbereich: Arbeitswelt- und berufsbezogene Weiterbildung\nRefer
 ent/in: Ursula Abeln\, Lehrerin i. R.\nAnsprechpartner/in - Leitung: Carol
 a Schick\nKosten: 80\,– €\nZusatzinformationen: Anmeldung bis 19.03.2025\n
 : \nAnsprechpartner: Carola Schick eeb-sued@eeb-sued.de
DTSTART;TZID=Europe/Berlin:20250326T090000
DTEND;TZID=Europe/Berlin:20250326T163000
LOCATION:Simmern: Ev. Erwachsenenbildungswerk Rheinland-Süd e.V.\, Simmern
SUMMARY:Bewegte Sprache – Intensivkurs zum Aufbau der sprachlichen Kompeten
 z im Vorschulalter :: Die „Bewegte Sprache“ ist als Intensivkurs konzipier
 t für Kinder im vorletzten Kindergartenjahr
URL:https://termine.ekir.de/veranstaltung_im_detail854636.html
END:VEVENT
END:VCALENDAR
