BEGIN:VCALENDAR
VERSION:2.0
PRODID:-//evangelische-termine.de//NONSGML kigkonsult.se iCalcreator 2.18//
CALSCALE:GREGORIAN
METHOD:PUBLISH
X-WR-CALNAME:iCal Evangelische-Termine 19.04.2026
X-WR-CALDESC:iCalender von Evangelische-Termine (19.04.2026)
X-WR-TIMEZONE:Europe/Berlin
X-MS-OLK-FORCEINSPECTOROPEN:TRUE
BEGIN:VTIMEZONE
TZID:Europe/Berlin
BEGIN:STANDARD
DTSTART:19701025T030000
TZOFFSETFROM:+0200
TZOFFSETTO:+0100
RRULE:FREQ=YEARLY;BYDAY=-1SU;BYMONTH=10
TZNAME:CET
END:STANDARD
BEGIN:DAYLIGHT
DTSTART:19700329T020000
TZOFFSETFROM:+0100
TZOFFSETTO:+0200
RRULE:FREQ=YEARLY;BYDAY=-1SU;BYMONTH=3
TZNAME:CEST
END:DAYLIGHT
END:VTIMEZONE
BEGIN:VEVENT
UID:20250408T090000-855132@evangelische-termine.de
DTSTAMP:20260419T211052Z
DESCRIPTION:\nKirchenkreis: überregional\nArt der Veranstaltung: Fortbildun
 gen / Seminare / Vorträge\nVeranstaltungsort: Ev. Erwachsenenbildungswerk 
 Rheinland-Süd e.V.\, Simmern\nHerzog-Reichard-Str. 30\n55469 Simmern\nKurz
 beschreibung / Untertitel: Kindeswohl und Kindeswohlgefährdung sind Begrif
 fe\, die im Kita-Alltag immer wieder auftauchen. Aber was genau verstehen 
 wir unter „Kindeswohl“ und dessen Gefährdung?\nAusführliche Beschreibung: 
 Kindeswohl und Kindeswohlgefährdung sind Begriffe\, die im Kita-Alltag imm
 er wieder auftauchen. Aber was genau verstehen wir unter „Kindeswohl“ und 
 dessen Gefährdung?\n\nWelche Möglichkeiten gibt es in der Kita\, Gefährdun
 gen zu erkennen und wie gehen wir mit diesen Erkenntnissen um?\n\nDie oben
  genannten Fragen führen oft zu Verunsicherung. Genau hier soll diese Fort
 bildung ansetzen. Es soll gemeinsam erarbeitet werden\, wie Gefährdungen e
 rkannt werden und wie professionell darauf reagiert werden kann bzw. muss.
 \n\nInhalte:\n>	Rechtliche Grundlagen\n>	Kindeswohlgefährdungen erkennen / F
 ormen der Kindeswohlgefährdung\n>	Gewährleistung des Kindeswohls\n>	Konzepti
 on => Umsetzung Kinderschutzkonzept\n>	Fazit\n\nDiese Veranstaltung wird im
  gleichen Format am 30.10.2025 angeboten.\nFörderbereich: Arbeitswelt- und
  berufsbezogene Weiterbildung\nReferent/in: Sabine Baumgärtner\, Erzieheri
 n\, Fachkraft U3\, Sozialpädagogin\nKosten: 80\,– €\nZusatzinformationen: 
 Anmeldung bis 25.03.2025\nAnsprechpartner: Carola Schick eeb-sued@eeb-sued
 .de
DTSTART;TZID=Europe/Berlin:20250408T090000
DTEND;TZID=Europe/Berlin:20250408T163000
LOCATION:Simmern: Ev. Erwachsenenbildungswerk Rheinland-Süd e.V.\, Simmern
SUMMARY:Kindeswohlgefährdungen erkennen und  Kinderschutz umsetzen (ABGESAG
 T!) :: Kindeswohl und Kindeswohlgefährdung sind Begriffe\, die im Kita-All
 tag immer wieder auftauchen.
URL:https://termine.ekir.de/veranstaltung_im_detail855132.html
END:VEVENT
END:VCALENDAR
