BEGIN:VCALENDAR
VERSION:2.0
PRODID:-//evangelische-termine.de//NONSGML kigkonsult.se iCalcreator 2.18//
CALSCALE:GREGORIAN
METHOD:PUBLISH
X-WR-CALNAME:iCal Evangelische-Termine 19.04.2026
X-WR-CALDESC:iCalender von Evangelische-Termine (19.04.2026)
X-WR-TIMEZONE:Europe/Berlin
X-MS-OLK-FORCEINSPECTOROPEN:TRUE
BEGIN:VTIMEZONE
TZID:Europe/Berlin
BEGIN:STANDARD
DTSTART:19701025T030000
TZOFFSETFROM:+0200
TZOFFSETTO:+0100
RRULE:FREQ=YEARLY;BYDAY=-1SU;BYMONTH=10
TZNAME:CET
END:STANDARD
BEGIN:DAYLIGHT
DTSTART:19700329T020000
TZOFFSETFROM:+0100
TZOFFSETTO:+0200
RRULE:FREQ=YEARLY;BYDAY=-1SU;BYMONTH=3
TZNAME:CEST
END:DAYLIGHT
END:VTIMEZONE
BEGIN:VEVENT
UID:20250506T090000-855134@evangelische-termine.de
DTSTAMP:20260419T192606Z
DESCRIPTION:\nKirchenkreis: überregional\nArt der Veranstaltung: Fortbildun
 gen / Seminare / Vorträge\nVeranstaltungsort: Ev. Erwachsenenbildungswerk 
 Rheinland-Süd e.V.\, Simmern\nHerzog-Reichard-Str. 30\n55469 Simmern\nKurz
 beschreibung / Untertitel: Die Digitalisierung schreitet voran. Kommen wir
  noch mit?\nAusführliche Beschreibung: Die Digitalisierung schreitet voran
 . Kommen wir noch mit?\n\nIn diesem Workshop geht es um die Schulung von E
 rzieher*innen und Grundschullehrer*innen\, um Eltern zu unterstützen\, ein
  gesundes Medienkonsumverhalten selbst wahrzunehmen und ihre Kinder dabei 
 zu begleiten\, ihren eigenen Medienkonsum verantwortungsbewusst zu erlerne
 n.\n\nMit kleinen eigenen Experimenten\, der Einführung in kindgerechte So
 ftware\, Spiele und Apps sowie ein kleiner Exkurs in die Gehirnentwicklung
  durch Medien in Bezug auf Kinder sollen die Teilnehmer*innen Sicherheit i
 m eigenen Umgang mit Medien und auch im sicheren Auftreten den Eltern gege
 nüber erlangen.\n\nThemen:\n>	Apps \n>	Datensammler\n>	Kindergefährdende Inha
 lte\n>	Gehirnentwicklung durch Medien in Bezug auf Kinder\n>	Kindersicherung
 en\n>	Reflexion zum Medienkonsum\nFörderbereich: Arbeitswelt- und berufsbez
 ogene Weiterbildung\nReferent/in: Lena Lorenz\, Medienpädagogin und Carola
  Schick\, Bildungsreferentin\nKosten: 80\,– €\nZusatzinformationen: Anmeld
 ung bis 23.04.2025\n: \nAnsprechpartner: Carola Schick eeb-sued@eeb-sued.d
 e
DTSTART;TZID=Europe/Berlin:20250506T090000
DTEND;TZID=Europe/Berlin:20250506T163000
LOCATION:Simmern: Ev. Erwachsenenbildungswerk Rheinland-Süd e.V.\, Simmern
SUMMARY:Medien mit Kindern erleben und sicher begleiten! :: Die Digitalisie
 rung schreitet voran. Kommen wir noch mit?
URL:https://termine.ekir.de/veranstaltung_im_detail855134.html
END:VEVENT
END:VCALENDAR
