BEGIN:VCALENDAR
VERSION:2.0
PRODID:-//evangelische-termine.de//NONSGML kigkonsult.se iCalcreator 2.18//
CALSCALE:GREGORIAN
METHOD:PUBLISH
X-WR-CALNAME:iCal Evangelische-Termine 19.04.2026
X-WR-CALDESC:iCalender von Evangelische-Termine (19.04.2026)
X-WR-TIMEZONE:Europe/Berlin
X-MS-OLK-FORCEINSPECTOROPEN:TRUE
BEGIN:VTIMEZONE
TZID:Europe/Berlin
BEGIN:STANDARD
DTSTART:19701025T030000
TZOFFSETFROM:+0200
TZOFFSETTO:+0100
RRULE:FREQ=YEARLY;BYDAY=-1SU;BYMONTH=10
TZNAME:CET
END:STANDARD
BEGIN:DAYLIGHT
DTSTART:19700329T020000
TZOFFSETFROM:+0100
TZOFFSETTO:+0200
RRULE:FREQ=YEARLY;BYDAY=-1SU;BYMONTH=3
TZNAME:CEST
END:DAYLIGHT
END:VTIMEZONE
BEGIN:VEVENT
UID:20250508T090000-855135@evangelische-termine.de
DTSTAMP:20260419T192612Z
DESCRIPTION:\nKirchenkreis: überregional\nArt der Veranstaltung: Fortbildun
 gen / Seminare / Vorträge\nVeranstaltungsort: Ev. Erwachsenenbildungswerk 
 Rheinland-Süd e.V.\, Simmern\nHerzog-Reichard-Str. 30\n55469 Simmern\nKurz
 beschreibung / Untertitel: Musik und Bewegung für die Kleinsten\nAusführli
 che Beschreibung: Über Musik und Bewegung werden die Kleinsten besonders g
 ut angesprochen. Das Singen ist dabei eine besondere Herausforderung. Die 
 Melodien\, Texte und Spieltipps müssen einfach gehalten sein. Wiederholung
 en und sparsame Silbensprache kommen gut bei den Kleinen an. Spielverse un
 d Lieder in Kombination mit Bewegung fördern die Kinder. Sie dienen besond
 ers gut zur Sprachbildung. Kleine Kinder brauchen Rituale und eine vielfäl
 tige Ansprache. Sie sind neugierig\, leben im Hier und Jetzt und lassen si
 ch gerne von reizvollen und spannenden Musikangeboten begeistern. Lieder l
 assen sich gut mit dazu passenden Spielversen verbinden – kurze Spieleinhe
 iten\, die alle in der Praxis ausprobiert wurden und sich für diese Alters
 gruppe bewährt haben.\n\nAngesprochen sind Krippeneinrichtungen\, die Jüng
 sten im Kindergarten\, Eltern-Kind-Gruppen\, Tagespflegepersonen\, integra
 tive Kitas\, Kinder mit geringen Deutschkenntnissen und natürlich auch int
 eressierte Eltern.\n\nIm Besonderen geht es in dem Seminar vor allem um mu
 sikalische Grunderfahrungen: Ein Kniereiter oder ein Klatschspiel betonen 
 z.B. gerade Taktstrukturen\, Wiegen- oder Schaukellieder dagegen den Dreie
 r-Rhythmus. Es geht in den Spielversen und Liedern um folgende Themen: Beg
 rüßung und Kennenlernen\, Körperteile\, kleine Tiere\, besondere Spielidee
 n\, im Laufe des Jahres\, bei Gelegenheit und Abschied.\nWeiter stehen auf
  dem Programm: Lieder mit Requisiten sowie Tanzlieder. Es gibt auch Hinter
 grundinformationen zu einzelnen Aspekten des musikalischen\, sprachlichen 
 und psychomotorischen Lernens im frühen Kindesalter. \n\nEbenso kommen kin
 dgerechte Musikinstrumente wie Rasseln\, Glöckchen\, kleine Trommeln\, Kla
 nghölzer und klingende Stäbe sowie das Musikmachen mit Alltagsgegenständen
  zum Einsatz.\nFörderbereich: Arbeitswelt- und berufsbezogene Weiterbildun
 g\nReferent/in: Wolfgang Hering\nKosten: 80\,– €\nZusatzinformationen: Anm
 eldung bis 22.04.2024\n: \nAnsprechpartner: Carola Schick eeb-sued@eeb-sue
 d.de
DTSTART;TZID=Europe/Berlin:20250508T090000
DTEND;TZID=Europe/Berlin:20250508T163000
LOCATION:Simmern: Ev. Erwachsenenbildungswerk Rheinland-Süd e.V.\, Simmern
SUMMARY:Pi-Pa-Patsch – Bewegungslieder\, Musikerlebnisse und Spieltipps für
  kleine Kinder :: Musik und Bewegung für die Kleinsten
URL:https://termine.ekir.de/veranstaltung_im_detail855135.html
END:VEVENT
END:VCALENDAR
