BEGIN:VCALENDAR
VERSION:2.0
PRODID:-//evangelische-termine.de//NONSGML kigkonsult.se iCalcreator 2.18//
CALSCALE:GREGORIAN
METHOD:PUBLISH
X-WR-CALNAME:iCal Evangelische-Termine 19.04.2026
X-WR-CALDESC:iCalender von Evangelische-Termine (19.04.2026)
X-WR-TIMEZONE:Europe/Berlin
X-MS-OLK-FORCEINSPECTOROPEN:TRUE
BEGIN:VTIMEZONE
TZID:Europe/Berlin
BEGIN:STANDARD
DTSTART:19701025T030000
TZOFFSETFROM:+0200
TZOFFSETTO:+0100
RRULE:FREQ=YEARLY;BYDAY=-1SU;BYMONTH=10
TZNAME:CET
END:STANDARD
BEGIN:DAYLIGHT
DTSTART:19700329T020000
TZOFFSETFROM:+0100
TZOFFSETTO:+0200
RRULE:FREQ=YEARLY;BYDAY=-1SU;BYMONTH=3
TZNAME:CEST
END:DAYLIGHT
END:VTIMEZONE
BEGIN:VEVENT
UID:20250605T090000-855166@evangelische-termine.de
DTSTAMP:20260419T192607Z
DESCRIPTION:\nKirchenkreis: überregional\nArt der Veranstaltung: Fortbildun
 gen / Seminare / Vorträge\nVeranstaltungsort: Ev. Erwachsenenbildungswerk 
 Rheinland-Süd e.V.\, Simmern\nHerzog-Reichard-Str. 30\n55469 Simmern\nKurz
 beschreibung / Untertitel: Eine Fortbildung für Pädagog*innen in Grundschu
 le und KiTa\nAusführliche Beschreibung: „Lasst uns alle etwas liebevoller 
 mit uns selbst umgehen“ \n	Gerald Hüther\n\nIch glaube\, wir alle kennen üb
 erfüllte Gruppen- und Funktionsräume\, in denen Lautstärken im höheren Dez
 ibelbereich erreicht werden. Wir\, als pädagogische Fachkräfte\, leisten t
 agtäglich wahre kleine Wunder und finden immer einen Weg\, uns den Gegeben
 heiten anzupassen und dennoch den persönlichen Anspruch an unsere Arbeit n
 icht zu verlieren. Hilfreich für stressige Tage sind kleine Übungen\, Medi
 tationen und Imagination\, die uns Kraft geben\, uns zu fokussieren und et
 was durchatmen lassen.\n\nLasst uns gemeinsam herausfinden\, wie dein pers
 önlicher Kraftort ausehen kann und was du ohne viel Aufwand zur eigenen Ps
 ychohygiene beisteuern kannst.\n\nPraktische Übungen beinhalten:\n>	Atemübu
 ngen\n>	Meditationen\n>	Mudras (Fingeryoga)\n>	Fantasiereisen\n>	Progressive M
 uskelentspannung\n>	Kreative Aktivitäten\n>	Gruppenarbeiten\n\nBei guten Wet
 terverhältnissen können einzelne Übungen im Freien stattfinden. \nMitzubri
 ngen sind eine Unterlage/Matte\, Kissen\, Decke und warme Socken\nFörderbe
 reich: Arbeitswelt- und berufsbezogene Weiterbildung\nReferent/in: Carina 
 Stützel\nAnsprechpartner/in - Leitung: Carola Schick\nKosten: 80\,– €\nZus
 atzinformationen: Anmeldung bis 22.05.2025\n: \nAnsprechpartner: Carola Sc
 hick eeb-sued@eeb-sued.de
DTSTART;TZID=Europe/Berlin:20250605T090000
DTEND;TZID=Europe/Berlin:20250605T163000
LOCATION:Simmern: Ev. Erwachsenenbildungswerk Rheinland-Süd e.V.\, Simmern
SUMMARY:Auszeit zum Kraft tanken und Wohlfühlen
URL:https://termine.ekir.de/veranstaltung_im_detail855166.html
END:VEVENT
END:VCALENDAR
