BEGIN:VCALENDAR
VERSION:2.0
PRODID:-//evangelische-termine.de//NONSGML kigkonsult.se iCalcreator 2.18//
CALSCALE:GREGORIAN
METHOD:PUBLISH
X-WR-CALNAME:iCal Evangelische-Termine 19.04.2026
X-WR-CALDESC:iCalender von Evangelische-Termine (19.04.2026)
X-WR-TIMEZONE:Europe/Berlin
X-MS-OLK-FORCEINSPECTOROPEN:TRUE
BEGIN:VTIMEZONE
TZID:Europe/Berlin
BEGIN:STANDARD
DTSTART:19701025T030000
TZOFFSETFROM:+0200
TZOFFSETTO:+0100
RRULE:FREQ=YEARLY;BYDAY=-1SU;BYMONTH=10
TZNAME:CET
END:STANDARD
BEGIN:DAYLIGHT
DTSTART:19700329T020000
TZOFFSETFROM:+0100
TZOFFSETTO:+0200
RRULE:FREQ=YEARLY;BYDAY=-1SU;BYMONTH=3
TZNAME:CEST
END:DAYLIGHT
END:VTIMEZONE
BEGIN:VEVENT
UID:20251204T090000-855188@evangelische-termine.de
DTSTAMP:20260419T175537Z
DESCRIPTION:\nKirchenkreis: überregional\nArt der Veranstaltung: Fortbildun
 gen / Seminare / Vorträge\nVeranstaltungsort: Ev. Erwachsenenbildungswerk 
 Rheinland-Süd e.V.\, Simmern\nHerzog-Reichard-Str. 30\n55469 Simmern\nKurz
 beschreibung / Untertitel: Qualifizierung für sprachliche Bildung in Kitas
  in Rheinland-Pfalz (9 Module)\nAusführliche Beschreibung: Um zu gewährlei
 sten\, dass die sprachliche Bildung in Kitas auf hohem Niveau durchgeführt
  wird\, wurde das Projekt „Qualifizierung von Sprachförderkräften“ in Rhei
 nland-Pfalz konzipiert.\nDie Qualifizierung erfolgt nach dem weiterentwick
 elten Rahmencurriculum des Landes zur sprachlichen Bildung in Kitas „Mit K
 indern im Gespräch – Strategien zur sprachlichen Bildung von Kindern in Ki
 ndertageseinrichtungen”. Der Fokus liegt auf der Interaktion als Motor men
 schlicher Entwicklung und auf dem systematischen Einsatz von Sprachförders
 trategien in Schlüsselsituationen des Kitaalltags. Das Konzept unterstützt
  die Fachkräfte dabei\, systematisch ihre Sprachförderkompetenz auszubauen
  und in der Arbeit mit Kindern anzuwenden. \nDiese Qualifizierung „Mit Kin
 dern im Gespräch“ sollten Sprachbeauftragte der Kitas absolvieren. Den ges
 amten Kita-Teams wird empfohlen\, sich in das Konzept einzuarbeiten. Die e
 rfolgreiche Absolvierung der neuen Module der gesamten Qualifizierung führ
 t zum Erlangen des Abschlusszertifikates. \nDetails dazu auf der Website d
 es Landes Rheinland-Pfalz: kita.rlp.de unter dem \nStichwort: „Mit Kindern
  im Gespräch – Qualifizierung für sprachliche Bildung“.\nFörderbereich: Ar
 beitswelt- und berufsbezogene Weiterbildung\nReferent/in: Dr. Ewa Schmied\
 , Diplom-Pädagogin\, Sprachheilpädagogin\nKosten: 675\,– €\nZusatzinformat
 ionen: Inhalte\nPräsenz-Modul 1: 12.09.2025	(Frage- und Modellierungsstrate
 gien)\nOnline-Modul 2: 25.09.2025	(Strategien zur Konzeptentwicklung)\nOnli
 ne-Modul 3: 06.11.2025	(Rückmeldestrategien)\nOnline-Modul 4: 27.11.2025	(Le
 sesituationen)\nOnline-Modul 5: 04.12.2025	(Routinesituationen)\nOnline-Mod
 ul 6: 15.01.2026	(Gezielte Aktivitäten)\nOnline-Modul 7: 05.02.2026	(Rollens
 piele)\nPräsenz-Modul 8: 20.03.2026	(Spontane Sprechanlässe)\nPräsenz-Modul
  9: 29.05.2026	(Markt & Möglichkeiten)\nAnmeldung bis 01.08.2025\nAnsprechp
 artner: Carola Schick eeb-sued@eeb-sued.de
DTSTART;TZID=Europe/Berlin:20251204T090000
DTEND;TZID=Europe/Berlin:20251204T163000
LOCATION:Simmern: Ev. Erwachsenenbildungswerk Rheinland-Süd e.V.\, Simmern
SUMMARY:Mit Kindern im Gespräch – Kurs 2025/26 :: Qualifizierung für sprach
 liche Bildung in Kitas in Rheinland-Pfalz (9 Module)
URL:https://termine.ekir.de/veranstaltung_im_detail855188.html
END:VEVENT
END:VCALENDAR
