BEGIN:VCALENDAR
VERSION:2.0
PRODID:-//evangelische-termine.de//NONSGML kigkonsult.se iCalcreator 2.18//
CALSCALE:GREGORIAN
METHOD:PUBLISH
X-WR-CALNAME:iCal Evangelische-Termine 19.04.2026
X-WR-CALDESC:iCalender von Evangelische-Termine (19.04.2026)
X-WR-TIMEZONE:Europe/Berlin
X-MS-OLK-FORCEINSPECTOROPEN:TRUE
BEGIN:VTIMEZONE
TZID:Europe/Berlin
BEGIN:STANDARD
DTSTART:19701025T030000
TZOFFSETFROM:+0200
TZOFFSETTO:+0100
RRULE:FREQ=YEARLY;BYDAY=-1SU;BYMONTH=10
TZNAME:CET
END:STANDARD
BEGIN:DAYLIGHT
DTSTART:19700329T020000
TZOFFSETFROM:+0100
TZOFFSETTO:+0200
RRULE:FREQ=YEARLY;BYDAY=-1SU;BYMONTH=3
TZNAME:CEST
END:DAYLIGHT
END:VTIMEZONE
BEGIN:VEVENT
UID:20250924T090000-855193@evangelische-termine.de
DTSTAMP:20260419T172802Z
DESCRIPTION:\nKirchenkreis: überregional\nArt der Veranstaltung: Fortbildun
 gen / Seminare / Vorträge\nVeranstaltungsort: Wildnis-Werkstatt Weltenbaum
 \nEcke Dhaunerstr./Brunnenstraße\n55606 Oberhausen\nKurzbeschreibung / Unt
 ertitel: Konzepte der Wildnispädagogik\nAusführliche Beschreibung: Die For
 tbildung richtet sich an alle Menschen\, mit und ohne Vorerfahrungen\, die
  wertvolle Impulse für sich und die Arbeit mit Kindern und Jugendlichen sc
 hätzen.\n„Zentral (…) ist nicht die Aneignung von Wissen über die Natur\, 
 \nsondern die am eigenen Leib gemachte Erfahrung in und mit der Natur“ \n	P
 rof. Dr. Gerald Hüther\, Neurobiologe und Buchautor\nDer Alltag von Kinder
 n findet heute vermehrt im Innenraum statt. Damit Kinder eine Begeisterung
  für die Natur entwickeln können\, brauchen sie persönliche Naturkontakte.
  Durch frühe sinnliche Naturerfahrungen entsteht bei Kindern eine Beziehun
 g zur Natur\, die sich nachhaltig in den eigenen Werten verfestigt.\nZiel 
 dieses Tages ist das nachhaltige Lernen\, basierend auf \nden Methoden der
  Wildnispädagogik:\n>	Durch Inspiration\, Neugier und Begeisterung\, mit Hi
 lfe von Fragen\, Geschichten   und interessanten Naturobjekten wecken.\n>	D
 urch direkte und intensive Naturerfahrungen\, die alle Sinne ansprechen un
 d die Verbundenheit zur Natur stärken.\n>	Durch gemeinsamen Austausch die M
 öglichkeit geben\, die persönlichen Erfahrungen zu teilen\, um sich gegens
 eitig anzuregen.\nSchwerpunkte des Tages:\n>	Anregungen\, Übungen und Spiel
 e\, basierend auf dem Konzept der Wildnispädagogik \n>	Freie und forschende
  Zeit in und mit der Natur\, die staunen lässt\, neugierig macht und berüh
 rt\n>	Aktivitäten zur Stärkung des Teamgeistes\, zur Gesundheitsförderung u
 nd zur Beruhigung\n>	Gemeinsame Zubereitung des Mittagessens über dem offen
 en Feuer\nWichtig: witterungsangepasste Kleidung\, Becher oder Tasse\, Tas
 chen- oder \nSchnitzmesser mitbringen\nFörderbereich: Arbeitswelt- und ber
 ufsbezogene Weiterbildung\nReferent/in: Heike Zerfaß und Alexandra Fey\, E
 rzieherinnen und Wildnispädagoginnen\nKosten: 80\,– €\nZusatzinformationen
 : Veranstaltungsort:\nWildnis-Werkstatt Weltenbaum\nEcke Dhaunerstr./Brunn
 enstraße\, \n55606 Oberhausen \n\nDie Veranstaltung findet draußen statt\,
  bitte witterungsangepasste Kleidung tragen.\n\nAnmeldung bis 10.09.2025\n
 Ansprechpartner: Carola Schick eeb-sued@eeb-sued.de
DTSTART;TZID=Europe/Berlin:20250924T090000
DTEND;TZID=Europe/Berlin:20250924T163000
LOCATION:Oberhausen: Wildnis-Werkstatt Weltenbaum
SUMMARY:Natur verbindet! – Kinder lernen in und mit der Natur :: Konzepte d
 er Wildnispädagogik
URL:https://termine.ekir.de/veranstaltung_im_detail855193.html
END:VEVENT
END:VCALENDAR
