BEGIN:VCALENDAR
VERSION:2.0
PRODID:-//evangelische-termine.de//NONSGML kigkonsult.se iCalcreator 2.18//
CALSCALE:GREGORIAN
METHOD:PUBLISH
X-WR-CALNAME:iCal Evangelische-Termine 19.04.2026
X-WR-CALDESC:iCalender von Evangelische-Termine (19.04.2026)
X-WR-TIMEZONE:Europe/Berlin
X-MS-OLK-FORCEINSPECTOROPEN:TRUE
BEGIN:VTIMEZONE
TZID:Europe/Berlin
BEGIN:STANDARD
DTSTART:19701025T030000
TZOFFSETFROM:+0200
TZOFFSETTO:+0100
RRULE:FREQ=YEARLY;BYDAY=-1SU;BYMONTH=10
TZNAME:CET
END:STANDARD
BEGIN:DAYLIGHT
DTSTART:19700329T020000
TZOFFSETFROM:+0100
TZOFFSETTO:+0200
RRULE:FREQ=YEARLY;BYDAY=-1SU;BYMONTH=3
TZNAME:CEST
END:DAYLIGHT
END:VTIMEZONE
BEGIN:VEVENT
UID:20251009T090000-855195@evangelische-termine.de
DTSTAMP:20260419T174024Z
DESCRIPTION:\nKirchenkreis: überregional\nArt der Veranstaltung: Fortbildun
 gen / Seminare / Vorträge\nVeranstaltungsort: Ev. Erwachsenenbildungswerk 
 Rheinland-Süd e.V.\, Simmern\nHerzog-Reichard-Str. 30\n55469 Simmern\nKurz
 beschreibung / Untertitel: Vom Erzählen mit Bildkarten und Figuren – Märch
 en\, thematische Bilderbücher\, biblische Geschichten und Sachgeschichten
 \nAusführliche Beschreibung: Vom Erzählen mit Bildkarten und Figuren – Mär
 chen\, thematische Bilderbücher\, biblische Geschichten und Sachgeschichte
 n\n\nDas Kamishibai ist ein aus Japan stammendes Erzähltheater. Wer es ein
 mal erlebt hat\, versteht den Zauber\, der von diesem Medium ausgeht. Kino
  im Kopf – das ist Kamishibai. Diese Methode des bildgestützten Erzählens 
 ist bei Kindern und Erwachsenen gleichermaßen beliebt. Sie ermöglicht Gesc
 hichten zu erzählen\, ohne den roten Faden zu verlieren. Fantasie und Spra
 che werden auf spielerische Weise gefördert. \n\nIn diesem Workshop erwerb
 en Sie die Grundlagen des Arbeitens mit dem Kamishibai sowie Tipps und Tri
 cks\, wie das Erzählen zum vollen Erfolg wird. Den Abschluss bildet das „B
 auen“ einer eigenen Geschichte. Die Erzählschiene ergänzt das Erzählangebo
 t und bietet vielfältige Möglichkeiten des Einsatzes.\n\nErworbene Kompete
 nzen der Teilnehmer*innen\n>	Sie entdecken das Kamishibai und die Erzählsch
 iene als Einsatzmöglichkeit zum \n	bildgestützten Erzählen\n>	Sie lernen ver
 schiedene Bildkartensets und deren Einsatzmöglichkeiten kennen\n>	Sie entwi
 ckeln eine kleine Geschichte in der Kleingruppe\n\nFür Mitarbeiter/innen i
 n Tagespflege\, Krippe\, Kitas\, Bibliotheken\, Grundschulen und \nFörders
 chulen geeignet.\nFörderbereich: Arbeitswelt- und berufsbezogene Weiterbil
 dung\nReferent/in: Simone Jacken\, Pädagogin\, Mitautorin eines Kinderbuch
 s\, Dozentin für Ev. Büchereiarbeit\nKosten: 80\,– €\nZusatzinformationen:
  Anmeldung bis 25.09.2025\n: \nAnsprechpartner: Carola Schick eeb-sued@eeb
 -sued.de
DTSTART;TZID=Europe/Berlin:20251009T090000
DTEND;TZID=Europe/Berlin:20251009T163000
LOCATION:Simmern: Ev. Erwachsenenbildungswerk Rheinland-Süd e.V.\, Simmern
SUMMARY:Geschichten erzählen mit dem Erzähltheater  und der Erzählschiene :
 : Vom Erzählen mit Bildkarten und Figuren – Märchen\, thematische Bilderbü
 cher\, biblische Geschichten und Sachgeschichten
URL:https://termine.ekir.de/veranstaltung_im_detail855195.html
END:VEVENT
END:VCALENDAR
