BEGIN:VCALENDAR
VERSION:2.0
PRODID:-//evangelische-termine.de//NONSGML kigkonsult.se iCalcreator 2.18//
CALSCALE:GREGORIAN
METHOD:PUBLISH
X-WR-CALNAME:iCal Evangelische-Termine 19.04.2026
X-WR-CALDESC:iCalender von Evangelische-Termine (19.04.2026)
X-WR-TIMEZONE:Europe/Berlin
X-MS-OLK-FORCEINSPECTOROPEN:TRUE
BEGIN:VTIMEZONE
TZID:Europe/Berlin
BEGIN:STANDARD
DTSTART:19701025T030000
TZOFFSETFROM:+0200
TZOFFSETTO:+0100
RRULE:FREQ=YEARLY;BYDAY=-1SU;BYMONTH=10
TZNAME:CET
END:STANDARD
BEGIN:DAYLIGHT
DTSTART:19700329T020000
TZOFFSETFROM:+0100
TZOFFSETTO:+0200
RRULE:FREQ=YEARLY;BYDAY=-1SU;BYMONTH=3
TZNAME:CEST
END:DAYLIGHT
END:VTIMEZONE
BEGIN:VEVENT
UID:20250127T190000-855204@evangelische-termine.de
DTSTAMP:20260419T211038Z
DESCRIPTION:\nKirchenkreis: überregional\nArt der Veranstaltung: Fortbildun
 gen / Seminare / Vorträge\nVeranstaltungsort: online\n- -\nKurzbeschreibun
 g / Untertitel: Zum 80. Jahrestag der Befreiung von Auschwitz beleuchtet R
 einer Engelmann die Lagerentstehung und das Leben von Edek Galinski und Ma
 la Zimetbaum.\nAusführliche Beschreibung: Vor 80 Jahren\, am 27. Januar 19
 45\, wurde Auschwitz von der Roten Armee befreit. Dieser Tag wird heute al
 s Internationaler Holocaust-Gedenktag begangen. Zum 80. Jahrestag beleucht
 et der Autor Reiner Engelmann die Entstehungsgeschichte des Lagers und das
  Schicksal von Edek Galinski und Mala Zimetbaum. Beide wurden nach Auschwi
 tz deportiert und erlebten unter extremen Bedingungen eine außergewöhnlich
 e Liebesgeschichte. Thematisiert werden ihr Mut\, ihr Widerstand und ihr g
 emeinsamer Fluchtversuch. Herr Engelmann liest zudem Auszüge aus seinem ne
 uen Buch über die beiden. Die Veranstaltung regt zum Nachdenken über Diskr
 iminierung und Totalitarismus an.\nFörderbereich: Politische Bildung\nRefe
 rent/in: Reiner Engelmann\nAnsprechpartner/in - Leitung: Dr. Marion Krames
 \nKosten: kostenlos\nZusatzinformationen: Anmeldung bis zum 23.01.2025\n: 
DTSTART;TZID=Europe/Berlin:20250127T190000
DTEND;TZID=Europe/Berlin:20250127T203000
LOCATION:-: online
SUMMARY:Eine Liebe im Schatten des Holocaust :: Zum 80. Jahrestag der Befre
 iung von Auschwitz beleuchtet Reiner Engelmann die Lagerentstehung und das
  Leben von Edek Galinski und Mala Zimetbaum.
URL:https://termine.ekir.de/veranstaltung_im_detail855204.html
END:VEVENT
END:VCALENDAR
