BEGIN:VCALENDAR
VERSION:2.0
PRODID:-//evangelische-termine.de//NONSGML kigkonsult.se iCalcreator 2.18//
CALSCALE:GREGORIAN
METHOD:PUBLISH
X-WR-CALNAME:iCal Evangelische-Termine 19.04.2026
X-WR-CALDESC:iCalender von Evangelische-Termine (19.04.2026)
X-WR-TIMEZONE:Europe/Berlin
X-MS-OLK-FORCEINSPECTOROPEN:TRUE
BEGIN:VTIMEZONE
TZID:Europe/Berlin
BEGIN:STANDARD
DTSTART:19701025T030000
TZOFFSETFROM:+0200
TZOFFSETTO:+0100
RRULE:FREQ=YEARLY;BYDAY=-1SU;BYMONTH=10
TZNAME:CET
END:STANDARD
BEGIN:DAYLIGHT
DTSTART:19700329T020000
TZOFFSETFROM:+0100
TZOFFSETTO:+0200
RRULE:FREQ=YEARLY;BYDAY=-1SU;BYMONTH=3
TZNAME:CEST
END:DAYLIGHT
END:VTIMEZONE
BEGIN:VEVENT
UID:20250211T183000-855208@evangelische-termine.de
DTSTAMP:20260419T123118Z
DESCRIPTION:\nKirchenkreis: überregional\nArt der Veranstaltung: Fortbildun
 gen / Seminare / Vorträge\nVeranstaltungsort: online\n- -\nKurzbeschreibun
 g / Untertitel: Der Migrationswissenschaftler Dr. Stefan Rother beleuchtet
  Konzepte und Kontroversen der deutschen\, europäischen und globalen Migra
 tionspolitik\nAusführliche Beschreibung: Migration und Flucht haben sich z
 u kontroversen Themen der nationalen wie internationalen Politik entwickel
 t. Welchen Beitrag kann die Forschung zu einer Versachlichung der Debatte 
 leisten\, welche Phänomene und Trends untersucht sie? Und welche politisch
 en Antworten auf die Herausforderungen durch Migration und Flucht lassen s
 ich auf der nationalstaatlichen\, der regionalen (Europäische Union) und d
 er globalen Ebene finden?\n\nDie Veranstaltung wird gefördert von der Land
 eszentrale für politische Bildung Rheinland-Pfalz.\nFörderbereich: Politis
 che Bildung\nReferent/in: PD Dr. Stefan Rother (Universität Hamburg)\nAnsp
 rechpartner/in - Leitung: Dr. Marion Krames\nKosten: kostenlos\nZusatzinfo
 rmationen: Anmeldung bis zum 10.02.2025\nDer Zugangslink wird Ihnen kurz v
 or der Veranstaltung zugesendet.\nBitte beachten Sie auch Ihren SPAM- Ordn
 er.\n: 
DTSTART;TZID=Europe/Berlin:20250211T183000
DTEND;TZID=Europe/Berlin:20250211T200000
LOCATION:-: online
SUMMARY:Migration und Flucht als Herausforderung der nationalen und interna
 tionalen Politik :: Konzepte und Kontroversen der deutschen\, europäischen
  und globalen Migrationspolitik
URL:https://termine.ekir.de/veranstaltung_im_detail855208.html
END:VEVENT
END:VCALENDAR
