BEGIN:VCALENDAR
VERSION:2.0
PRODID:-//evangelische-termine.de//NONSGML kigkonsult.se iCalcreator 2.18//
CALSCALE:GREGORIAN
METHOD:PUBLISH
X-WR-CALNAME:iCal Evangelische-Termine 19.04.2026
X-WR-CALDESC:iCalender von Evangelische-Termine (19.04.2026)
X-WR-TIMEZONE:Europe/Berlin
X-MS-OLK-FORCEINSPECTOROPEN:TRUE
BEGIN:VTIMEZONE
TZID:Europe/Berlin
BEGIN:STANDARD
DTSTART:19701025T030000
TZOFFSETFROM:+0200
TZOFFSETTO:+0100
RRULE:FREQ=YEARLY;BYDAY=-1SU;BYMONTH=10
TZNAME:CET
END:STANDARD
BEGIN:DAYLIGHT
DTSTART:19700329T020000
TZOFFSETFROM:+0100
TZOFFSETTO:+0200
RRULE:FREQ=YEARLY;BYDAY=-1SU;BYMONTH=3
TZNAME:CEST
END:DAYLIGHT
END:VTIMEZONE
BEGIN:VEVENT
UID:20250129T183000-855221@evangelische-termine.de
DTSTAMP:20260419T211039Z
DESCRIPTION:\nKirchenkreis: überregional\nArt der Veranstaltung: Fortbildun
 gen / Seminare / Vorträge\nVeranstaltungsort: Evangelisches Gemeindehaus B
 ell\nBeller Hauptstraße 19\n56288 Bell\nKurzbeschreibung / Untertitel: Kun
 stwerke\, die biblische Geschichten erzählen und ein Zeichen für die jüdis
 ch-christliche Verbundenheit setzen.\nAusführliche Beschreibung: Von 1975 
 bis 1985 schuf der zu diesem Zeitpunkt bereits hochbetagte jüdische Künstl
 er Marc Chagall neun Glasfenster für die Kirche St Stephan in Mainz. Sie w
 ollen ein Zeichen für die jüdisch-christliche Verbundenheit und für die Vö
 lkerverständigung setzen. Wir lassen die Bilder auf uns wirken und erkunde
 n sie ebenso wie die biblischen Geschichten\, die dargestellt werden.\nFör
 derbereich: Religiöse Bildung\, Religionen\, Theologie\, Ethik\, Grenzfrag
 en\nReferent/in: Pfarrerin Frauke Flöth-Paulus\nAnsprechpartner/in - Leitu
 ng: Frauke Flöth-Paulus\nKosten: kostenlos\nZusatzinformationen: Anmeldung
  nicht erforderlich.
DTSTART;TZID=Europe/Berlin:20250129T183000
DTEND;TZID=Europe/Berlin:20250129T200000
LOCATION:Bell: Evangelisches Gemeindehaus Bell
SUMMARY:Die Glasfenster von Marc Chagall in der Kirche St. Stephan in Mainz
  – Königsgeschichte: David :: Kunstwerke\, die biblische Geschichten erzäh
 len und ein Zeichen für die jüdisch-christliche Verbundenheit setzen.
URL:https://termine.ekir.de/veranstaltung_im_detail855221.html
END:VEVENT
END:VCALENDAR
