BEGIN:VCALENDAR
VERSION:2.0
PRODID:-//evangelische-termine.de//NONSGML kigkonsult.se iCalcreator 2.18//
CALSCALE:GREGORIAN
METHOD:PUBLISH
X-WR-CALNAME:iCal Evangelische-Termine 19.04.2026
X-WR-CALDESC:iCalender von Evangelische-Termine (19.04.2026)
X-WR-TIMEZONE:Europe/Berlin
X-MS-OLK-FORCEINSPECTOROPEN:TRUE
BEGIN:VTIMEZONE
TZID:Europe/Berlin
BEGIN:STANDARD
DTSTART:19701025T030000
TZOFFSETFROM:+0200
TZOFFSETTO:+0100
RRULE:FREQ=YEARLY;BYDAY=-1SU;BYMONTH=10
TZNAME:CET
END:STANDARD
BEGIN:DAYLIGHT
DTSTART:19700329T020000
TZOFFSETFROM:+0100
TZOFFSETTO:+0200
RRULE:FREQ=YEARLY;BYDAY=-1SU;BYMONTH=3
TZNAME:CEST
END:DAYLIGHT
END:VTIMEZONE
BEGIN:VEVENT
UID:20250325T100000-855223@evangelische-termine.de
DTSTAMP:20260419T211039Z
DESCRIPTION:\nKirchenkreis: überregional\nArt der Veranstaltung: Fortbildun
 gen / Seminare / Vorträge\nVeranstaltungsort: online\n- -\nKurzbeschreibun
 g / Untertitel: Kunstwerke\, die biblische Geschichten erzählen und ein Ze
 ichen für die jüdisch-christliche Verbundenheit setzen.\nAusführliche Besc
 hreibung: Von 1975 bis 1985 schuf der zu diesem Zeitpunkt bereits hochbeta
 gte jüdische Künstler Marc Chagall neun Glasfenster für die Kirche St. Ste
 phan in Mainz. Sie wollen ein Zeichen für die jüdisch-christliche Verbunde
 nheit und für die Völkerverständigung setzen. Wir lassen die Bilder auf un
 s wirken und erkunden sie ebenso wie die biblischen Geschichten\, die darg
 estellt werden.\nFörderbereich: Religiöse Bildung\, Religionen\, Theologie
 \, Ethik\, Grenzfragen\nReferent/in: Pfarrerin Frauke Flöth-Paulus\nAnspre
 chpartner/in - Leitung: Frauke Flöth-Paulus\nDr. Marion Krames\nKosten: ko
 stenlos\nZusatzinformationen: Anmeldung bis zum 21.03.2025.\nVor der Veran
 staltung erhalten Sie von uns den Zoom-Link zur Teilnahme.\nBitte prüfen S
 ie auch ihren SPAM-Ordner.\n: 
DTSTART;TZID=Europe/Berlin:20250325T100000
DTEND;TZID=Europe/Berlin:20250325T113000
LOCATION:-: online
SUMMARY:Die Glasfenster von Marc Chagall in der Kirche St. Stephan in Mainz
  :: Kunstwerke\, die biblische Geschichten erzählen und ein Zeichen für di
 e jüdisch-christliche Verbundenheit setzen.
URL:https://termine.ekir.de/veranstaltung_im_detail855223.html
END:VEVENT
END:VCALENDAR
