BEGIN:VCALENDAR
VERSION:2.0
PRODID:-//evangelische-termine.de//NONSGML kigkonsult.se iCalcreator 2.18//
CALSCALE:GREGORIAN
METHOD:PUBLISH
X-WR-CALNAME:iCal Evangelische-Termine 20.04.2026
X-WR-CALDESC:iCalender von Evangelische-Termine (20.04.2026)
X-WR-TIMEZONE:Europe/Berlin
X-MS-OLK-FORCEINSPECTOROPEN:TRUE
BEGIN:VTIMEZONE
TZID:Europe/Berlin
BEGIN:STANDARD
DTSTART:19701025T030000
TZOFFSETFROM:+0200
TZOFFSETTO:+0100
RRULE:FREQ=YEARLY;BYDAY=-1SU;BYMONTH=10
TZNAME:CET
END:STANDARD
BEGIN:DAYLIGHT
DTSTART:19700329T020000
TZOFFSETFROM:+0100
TZOFFSETTO:+0200
RRULE:FREQ=YEARLY;BYDAY=-1SU;BYMONTH=3
TZNAME:CEST
END:DAYLIGHT
END:VTIMEZONE
BEGIN:VEVENT
UID:20250115T183000-855224@evangelische-termine.de
DTSTAMP:20260419T225758Z
DESCRIPTION:\nKirchenkreis: Simmern-Trarbach\nArt der Veranstaltung: Fortbi
 ldungen / Seminare / Vorträge\nVeranstaltungsort: Evangelisches Gemeindeha
 us Bell\nBeller Hauptstraße 19\n56288 Bell\nKurzbeschreibung / Untertitel:
  Kunstwerke\, die biblische Geschichten erzählen und ein Zeichen für die j
 üdisch-christliche Verbundenheit setzen.\nAusführliche Beschreibung: Von 1
 975 bis 1985 schuf der zu diesem Zeitpunkt bereits hochbetagte jüdische Kü
 nstler Marc Chagall neun Glasfenster für die Kirche St. Stephan in Mainz. 
 Sie wollen ein Zeichen für die jüdisch-christliche Verbundenheit und für d
 ie Völkerverständigung setzen. Wir lassen die Bilder auf uns wirken und er
 kunden sie ebenso wie die biblischen Geschichten\, die dargestellt werden.
 \nFörderbereich: Religiöse Bildung\, Religionen\, Theologie\, Ethik\, Gren
 zfragen\nReferent/in: Pfarrerin Frauke Flöth-Paulus\nAnsprechpartner/in - 
 Leitung: Frauke Flöth-Paulus\nKosten: kostenlos\nZusatzinformationen: Anme
 ldung nicht erforderlich.
DTSTART;TZID=Europe/Berlin:20250115T183000
DTEND;TZID=Europe/Berlin:20250115T200000
LOCATION:Bell: Evangelisches Gemeindehaus Bell
SUMMARY:Die Glasfenster von Marc Chagall in der Kirche St. Stephan in Mainz
  – Schöpfungsgeschichte: Am Anfang schuf Gott... :: Kunstwerke\, die bibli
 sche Geschichten erzählen und ein Zeichen für die jüdisch-christliche Verb
 undenheit setzen.
URL:https://termine.ekir.de/veranstaltung_im_detail855224.html
END:VEVENT
END:VCALENDAR
