BEGIN:VCALENDAR
VERSION:2.0
PRODID:-//evangelische-termine.de//NONSGML kigkonsult.se iCalcreator 2.18//
CALSCALE:GREGORIAN
METHOD:PUBLISH
X-WR-CALNAME:iCal Evangelische-Termine 21.04.2026
X-WR-CALDESC:iCalender von Evangelische-Termine (21.04.2026)
X-WR-TIMEZONE:Europe/Berlin
X-MS-OLK-FORCEINSPECTOROPEN:TRUE
BEGIN:VTIMEZONE
TZID:Europe/Berlin
BEGIN:STANDARD
DTSTART:19701025T030000
TZOFFSETFROM:+0200
TZOFFSETTO:+0100
RRULE:FREQ=YEARLY;BYDAY=-1SU;BYMONTH=10
TZNAME:CET
END:STANDARD
BEGIN:DAYLIGHT
DTSTART:19700329T020000
TZOFFSETFROM:+0100
TZOFFSETTO:+0200
RRULE:FREQ=YEARLY;BYDAY=-1SU;BYMONTH=3
TZNAME:CEST
END:DAYLIGHT
END:VTIMEZONE
BEGIN:VEVENT
UID:20241211T193000-856940@evangelische-termine.de
DTSTAMP:20260421T190912Z
DESCRIPTION:\nVeranstalterin: Eine Kooperationsveranstaltung der Evangelisc
 hen Akademie im Rheinland.\nThemenbereich : Kirche und digitaler Wandel \n
 Kurzbeschreibung: Wie das evangelische Laienspiel in der NS-Diktatur und i
 n der Nachkriegszeit die Menschen bewegte\nMehr Informationen: In evangeli
 schen Kirchen führten Kinder\, Jugendliche und Erwachsene schon vor über 1
 00 Jahren Krippenspiele aufwendig auf. Diese waren in den 30er bis 50er Ja
 hren aber keinesfalls nur niedlich. Zahlreiche Stücke griffen die Ereignis
 se der Zeit auf. \nDie Nationalsozialisten instrumentalisierten das Krippe
 nspiel. Und in der Nachkriegszeit entstanden berührende Stücke\, die Not\,
  Verlust und Schuld thematisierten.\n\nSo berichtet beispielsweise in eine
 m Krippenspiel ein junger Mann davon\, wie er im Zweiten Weltkrieg tötete\
 , ein anderer erzählt von seinen Schuldgefühlen und eine Frau erinnert an 
 ihr Kind\, das bei einem Bombeneinschlag ums Leben kam. \n\nDer in den dam
 aligen Krippenspielen vorhandene Hoffnungsgedanke wurde auf unterschiedlic
 he Weise zum Ausdruck gebracht und kann auch heute eine Quelle der Inspira
 tion sein. \n\nIm Vortrag kommen insbesondere auch Stücke von den Theologe
 n Ernst Lange und Albrecht Goes vor. \n\nReferentin:\nDr. Bettina Förster 
 ist Studienleiterin an der Evangelischen Akademie im Rheinland. Sie forsch
 te auf Dachböden\, interviewte Zeitzeugen und promovierte dann über die En
 twicklung des evangelischen Laienspiels von der Weimarer Republik bis in d
 ie Nachkriegszeit. Ihre Dissertation „Jedermann spielt“ erschien 2023.\nKo
 operationspartner:innen : Evangelisches Forum Bonn\nMelanchthon-Akademie K
 öln\nEvangelische Akademie im Rheinland\nAnmeldung und praktische Hinweise
 : Über diesen Link können Sie sich anmelden:\nhttps://ekir.zoom.us/meeting
 /register/u5Eoc-GtpzoiGNQ7Qps4_V7ddmZ64ETSiA0X\n\nWir nutzen Zoom.\nKosten
 : Teilnahme kostenfrei.\nAnsprechpartner:in: Dr. Bettina Förster\, Studien
 leiterin und Öffentlichkeitsbeauftragte\nThemenbereich: Kirche und digital
 er Wandel\nhttps://kirche-und-digitaler-wandel.ekir.de/\nTel.: 0228 479898
 -50\nVeranstaltungsort: Online\n00000 Internet\nInternetadresse: https://e
 v-akademie-rheinland.ekir.de/start/home/\nE-Mail: info@akademie.ekir.de\nZ
 ielgruppe: Es sind alle eingeladen\, die sich für das Themenfeld interessi
 eren.
DTSTART;TZID=Europe/Berlin:20241211T193000
DTEND;TZID=Europe/Berlin:20241211T203000
LOCATION:Internet: Online
SUMMARY:Über Sterben und Hoffnung im Krippenspiel :: Wie das evangelische L
 aienspiel in der NS-Diktatur und in der Nachkriegszeit die Menschen bewegt
 e
URL:https://termine.ekir.de/veranstaltung_im_detail856940.html
END:VEVENT
END:VCALENDAR
