BEGIN:VCALENDAR
VERSION:2.0
PRODID:-//evangelische-termine.de//NONSGML kigkonsult.se iCalcreator 2.18//
CALSCALE:GREGORIAN
METHOD:PUBLISH
X-WR-CALNAME:iCal Evangelische-Termine 20.04.2026
X-WR-CALDESC:iCalender von Evangelische-Termine (20.04.2026)
X-WR-TIMEZONE:Europe/Berlin
X-MS-OLK-FORCEINSPECTOROPEN:TRUE
BEGIN:VTIMEZONE
TZID:Europe/Berlin
BEGIN:STANDARD
DTSTART:19701025T030000
TZOFFSETFROM:+0200
TZOFFSETTO:+0100
RRULE:FREQ=YEARLY;BYDAY=-1SU;BYMONTH=10
TZNAME:CET
END:STANDARD
BEGIN:DAYLIGHT
DTSTART:19700329T020000
TZOFFSETFROM:+0100
TZOFFSETTO:+0200
RRULE:FREQ=YEARLY;BYDAY=-1SU;BYMONTH=3
TZNAME:CEST
END:DAYLIGHT
END:VTIMEZONE
BEGIN:VEVENT
UID:20250110T160000-875596@evangelische-termine.de
DTSTAMP:20260419T224425Z
DESCRIPTION:\nKirchenkreis: überregional\nArt der Veranstaltung: Fortbildun
 gen / Seminare / Vorträge\nVeranstaltungsort: INFORMA Zentrum für Hörgesch
 ädigte gemeinnützige GmbH\nIm Mühlengrund 3\n56566 Neuwied\nKurzbeschreibu
 ng / Untertitel: Neujahrs-Treffen mit einer Gebärdeneinheit zum Üben\nAusf
 ührliche Beschreibung: Bei diesem traditionellen\, inklusiven Neujahrsempf
 ang treffen sich Hörende und Gehörlose zum Austausch. Bei einer kleinen Ge
 bärdeneinheit zum Üben der Gebärdensprache DGS werden neue Gebärden gemein
 sam erlernt.\nFörderbereich: Sprachen\nAnsprechpartner/in - Leitung: Heike
  Hawacker\nInforma gGmbH\, Im Mühlengrund 3\, 56566 Neuwied-Oberbieber\nKo
 sten: 5\,00 €  (Flat Kaffee und Kuchen)\nZusatzinformationen: Infos und An
 meldungen:\nhhawacker@informa.org\nTelefon 02631 917110
DTSTART;TZID=Europe/Berlin:20250110T160000
DTEND;TZID=Europe/Berlin:20250110T180000
LOCATION:Neuwied: INFORMA Zentrum für Hörgeschädigte gemeinnützige GmbH
SUMMARY:Neujahrs-Empfang für Gehörlose und Hörende :: Neujahrs-Treffen mit 
 einer Gebärdeneinheit zum Üben
URL:https://termine.ekir.de/veranstaltung_im_detail875596.html
END:VEVENT
END:VCALENDAR
