BEGIN:VCALENDAR
VERSION:2.0
PRODID:-//evangelische-termine.de//NONSGML kigkonsult.se iCalcreator 2.18//
CALSCALE:GREGORIAN
METHOD:PUBLISH
X-WR-CALNAME:iCal Evangelische-Termine 20.04.2026
X-WR-CALDESC:iCalender von Evangelische-Termine (20.04.2026)
X-WR-TIMEZONE:Europe/Berlin
X-MS-OLK-FORCEINSPECTOROPEN:TRUE
BEGIN:VTIMEZONE
TZID:Europe/Berlin
BEGIN:STANDARD
DTSTART:19701025T030000
TZOFFSETFROM:+0200
TZOFFSETTO:+0100
RRULE:FREQ=YEARLY;BYDAY=-1SU;BYMONTH=10
TZNAME:CET
END:STANDARD
BEGIN:DAYLIGHT
DTSTART:19700329T020000
TZOFFSETFROM:+0100
TZOFFSETTO:+0200
RRULE:FREQ=YEARLY;BYDAY=-1SU;BYMONTH=3
TZNAME:CEST
END:DAYLIGHT
END:VTIMEZONE
BEGIN:VEVENT
UID:20250101T000000-875597@evangelische-termine.de
DTSTAMP:20260419T225942Z
DESCRIPTION:\nKirchenkreis: überregional\nArt der Veranstaltung: Fortbildun
 gen / Seminare / Vorträge\nVeranstaltungsort: INFORMA Zentrum für Hörgesch
 ädigte gemeinnützige GmbH\nIm Mühlengrund 3\n56566 Neuwied\nKurzbeschreibu
 ng / Untertitel: Gebärdenkurse für alle alle ab 12 Jahre\nAusführliche Bes
 chreibung: Informa gGmbH bietet seit 2009 Gebärdensprachkurse an. Wir unte
 rrichten die Kurse 1 (für Anfänger ohne Vorkenntnisse) und die Fortgeschri
 ttenen-Kurse 2-4\nSpezielle Kurse für Firmen\, Familien oder Freundeskreis
 e auf Anfrage!\nInternetadresse (eigene Infos im Internet): http://www.inf
 orma.org\nFörderbereich: Sprachen\nReferent/in: Nicole Prangenberg und Mar
 ia Fedorov\nAnsprechpartner/in - Leitung: Nicole Prangenberg und Maria Fed
 orov\nKosten: 130\,– € pro Person und Kurs\nZusatzinformationen: Veranstal
 tungsorte \nNeuwied Stadt\, Neuwied-Oberbieber\, Koblenz Stadt\, Altenkirc
 hen\n\nInfos und Anmeldung bei Heike Hawacker\nhhawacker@informa.org oder 
 02631 917110
DTSTART;VALUE=DATE:20250101
DTEND;VALUE=DATE:20260101
LOCATION:Neuwied: INFORMA Zentrum für Hörgeschädigte gemeinnützige GmbH
SUMMARY:Gebärdensprachkurse :: DGS Deutsche Gebärdensprache – Termine entne
 hmen Sie bitte der Homepage www.informa.org
URL:https://termine.ekir.de/veranstaltung_im_detail875597.html
END:VEVENT
END:VCALENDAR
