BEGIN:VCALENDAR
VERSION:2.0
PRODID:-//evangelische-termine.de//NONSGML kigkonsult.se iCalcreator 2.18//
CALSCALE:GREGORIAN
METHOD:PUBLISH
X-WR-CALNAME:iCal Evangelische-Termine 20.04.2026
X-WR-CALDESC:iCalender von Evangelische-Termine (20.04.2026)
X-WR-TIMEZONE:Europe/Berlin
X-MS-OLK-FORCEINSPECTOROPEN:TRUE
BEGIN:VTIMEZONE
TZID:Europe/Berlin
BEGIN:STANDARD
DTSTART:19701025T030000
TZOFFSETFROM:+0200
TZOFFSETTO:+0100
RRULE:FREQ=YEARLY;BYDAY=-1SU;BYMONTH=10
TZNAME:CET
END:STANDARD
BEGIN:DAYLIGHT
DTSTART:19700329T020000
TZOFFSETFROM:+0100
TZOFFSETTO:+0200
RRULE:FREQ=YEARLY;BYDAY=-1SU;BYMONTH=3
TZNAME:CEST
END:DAYLIGHT
END:VTIMEZONE
BEGIN:VEVENT
UID:20250111T140000-875598@evangelische-termine.de
DTSTAMP:20260419T225855Z
DESCRIPTION:\nKirchenkreis: überregional\nArt der Veranstaltung: Fortbildun
 gen / Seminare / Vorträge\nVeranstaltungsort: Ev. Gemeindezentrum Winninge
 n\nKirchstraße 5\n56333 Winningen\nKurzbeschreibung / Untertitel: Ein krea
 tiver Schreib-Workshop für Frauen zur Jahreslosung 2025\nAusführliche Besc
 hreibung: „Prüft alles und behaltet das Gute.“ Mit Stift\, Papier und der 
 Methode des Emotionalen Schreibens nähern wir uns der Jahreslosung 2025. 
 \nMax. 12 Teilnehmerinnen\, auch schreibunerfahrene Frauen sind herzlich w
 illkommen!\nZzgl. zum Kostenbeitrag bringt jede Schreiberin etwas Leckeres
  fürs gemeinsame Kaffee-Büffet mit.\nInternetadresse (eigene Infos im Inte
 rnet): https://ev.kirche-winningen.de/\nFörderbereich: Sonstiges\nReferent
 /in: Iris Ney\, Pfarrerin\nSusanne Barth\, Schreib-Coach\nAnsprechpartner/
 in - Leitung: Iris Ney\, Pfarrerin\nSusanne Barth\, Schreib-Coach\nKosten:
  59\,– €\nZusatzinformationen: Anmeldung bis zum 06.01.2025 im Pfarrbüro T
 el. 02606-344 oder 0177-5558135 oder winningen@ekir.de
DTSTART;TZID=Europe/Berlin:20250111T140000
DTEND;TZID=Europe/Berlin:20250111T190000
LOCATION:Winningen: Ev. Gemeindezentrum Winningen
SUMMARY:Alles Gute! :: Ein kreativer Schreib-Workshop für Frauen zur Jahres
 losung 2025
URL:https://termine.ekir.de/veranstaltung_im_detail875598.html
END:VEVENT
END:VCALENDAR
