BEGIN:VCALENDAR
VERSION:2.0
PRODID:-//evangelische-termine.de//NONSGML kigkonsult.se iCalcreator 2.18//
CALSCALE:GREGORIAN
METHOD:PUBLISH
X-WR-CALNAME:iCal Evangelische-Termine 20.04.2026
X-WR-CALDESC:iCalender von Evangelische-Termine (20.04.2026)
X-WR-TIMEZONE:Europe/Berlin
X-MS-OLK-FORCEINSPECTOROPEN:TRUE
BEGIN:VTIMEZONE
TZID:Europe/Berlin
BEGIN:STANDARD
DTSTART:19701025T030000
TZOFFSETFROM:+0200
TZOFFSETTO:+0100
RRULE:FREQ=YEARLY;BYDAY=-1SU;BYMONTH=10
TZNAME:CET
END:STANDARD
BEGIN:DAYLIGHT
DTSTART:19700329T020000
TZOFFSETFROM:+0100
TZOFFSETTO:+0200
RRULE:FREQ=YEARLY;BYDAY=-1SU;BYMONTH=3
TZNAME:CEST
END:DAYLIGHT
END:VTIMEZONE
BEGIN:VEVENT
UID:20250115T093000-875680@evangelische-termine.de
DTSTAMP:20260419T224424Z
DESCRIPTION:\nKirchenkreis: überregional\nArt der Veranstaltung: Fortbildun
 gen / Seminare / Vorträge\nVeranstaltungsort: Ev. Gemeindezentrum Lützel\n
 Bodelschwinghstraße 8\n56070 Koblenz\nKurzbeschreibung / Untertitel: Studi
 entag zur Vorbereitung des  Weltgebetstags 2025 von den Cookinseln für Fra
 uen aller Konfessionen\nAusführliche Beschreibung: In diesem Jahr fliegen 
 wir gedanklich bis in die Südsee. Frauen von den Cookinseln haben für den 
 Gottesdienst am 7. März 2025 die Liturgie verfasst. Sie basiert auf Psalm 
 139\, 1-18 und der Erkenntnis „Ich bin wunderbar gemacht“\, woraus sich da
 s Motto „wunderbar geschaffen!“ ableitet. Jede und jeder von uns wurde mit
  Sorgfalt und Liebe von Gott geschaffen. Wenn wir diese tiefe Wahrheit ann
 ehmen können\, verändert sich alles in unserem Leben\, und wir beginnen\, 
 von innen heraus zu strahlen und zu leuchten. Bibelstelle und Gottesdienst
  laden dazu ein\, Aspekte unseres göttlich geschaffenen Körpers wahrzunehm
 en\, die wir oft als selbstverständlich ansehen.\n\nIn der Liturgie erzähl
 en uns drei Frauen aus ihrem Leben: Große Angst hatte ein Mädchen während 
 der Corona-Pandemie. Eine Ende der 1950er-Jahre geborene Frau erlebte in i
 hrer Schulzeit Diskriminierung\, da sie vor allem Maori\, die Muttersprach
 e der Cookinseln\, sprach. Und „Doktor Dawn“ ist Ärztin auf einer Kinderst
 ation. Sie alle beziehen die notwendige Stärke für ihr Leben aus dem Gebet
 \, dem Glauben und der Zusage Gottes\, immer bei ihnen zu sein.\n\nRund 15
 .000 Menschen leben auf 12 der 15 Inseln\, die sich über ein Meeresgebiet 
 von knapp 2 Mio. km² verteilen. Auf der Hauptinsel Rarotonga sind ca. 10.0
 00 Menschen heimisch\, von der die südlichen Inseln ca. 300 km entfernt si
 nd\, die nördlich gelegenen bis zu 1.400 km. 1965 erlangten die Cookinseln
  ihre Unabhängigkeit von Großbritannien\, gehören zum Commonwealth und leb
 en in freier Assoziierung mit Neuseeland.\n\nBeim WGT-Studientag werden wi
 r die Schönheit und Bedeutung dieses Südsee-Paradieses kennenlernen\, uns 
 mit dessen Historie\, Kultur und Religion sowie Klima- und Umwelt-Problema
 tiken\, ebenso mit der Situation der Frauen im Spiegel aktueller Herausfor
 derungen in Politik\, Wirtschaft und Gesellschaft.\nFörderbereich: Interna
 tionales\, Völkerverständigung\, Multikulturelle Gesellschaft\nReferent/in
 : Andrea Effelsberg\nBildungsreferentin im Landesverband der Ev. Frauen im
  Rheinland\nAnsprechpartner/in - Leitung: Heidemarie Falkenberg\nKosten: 1
 5\,– € mit Mittagessen und Getränken\nZusatzinformationen: Veranstalter si
 nd die Evangelischen Frauen im Rheinland\, Kreisverband Koblenz\nAnmeldung
  bis zum 06.01.2025 bei:\nHeidemarie Falkenberg\nTel.: 02642-980641\nE-Mai
 l: huf.falkenberg@t-online.de
DTSTART;TZID=Europe/Berlin:20250115T093000
DTEND;TZID=Europe/Berlin:20250115T163000
LOCATION:Koblenz: Ev. Gemeindezentrum Lützel
SUMMARY:Wunderbar geschaffen! :: Studientag zur Vorbereitung des  Weltgebet
 stags 2025 von den Cookinseln  für Frauen aller Konfessionen
URL:https://termine.ekir.de/veranstaltung_im_detail875680.html
END:VEVENT
END:VCALENDAR
