BEGIN:VCALENDAR
VERSION:2.0
PRODID:-//evangelische-termine.de//NONSGML kigkonsult.se iCalcreator 2.18//
CALSCALE:GREGORIAN
METHOD:PUBLISH
X-WR-CALNAME:iCal Evangelische-Termine 20.04.2026
X-WR-CALDESC:iCalender von Evangelische-Termine (20.04.2026)
X-WR-TIMEZONE:Europe/Berlin
X-MS-OLK-FORCEINSPECTOROPEN:TRUE
BEGIN:VTIMEZONE
TZID:Europe/Berlin
BEGIN:STANDARD
DTSTART:19701025T030000
TZOFFSETFROM:+0200
TZOFFSETTO:+0100
RRULE:FREQ=YEARLY;BYDAY=-1SU;BYMONTH=10
TZNAME:CET
END:STANDARD
BEGIN:DAYLIGHT
DTSTART:19700329T020000
TZOFFSETFROM:+0100
TZOFFSETTO:+0200
RRULE:FREQ=YEARLY;BYDAY=-1SU;BYMONTH=3
TZNAME:CEST
END:DAYLIGHT
END:VTIMEZONE
BEGIN:VEVENT
UID:20250118T180000-875686@evangelische-termine.de
DTSTAMP:20260419T225839Z
DESCRIPTION:\nKirchenkreis: überregional\nArt der Veranstaltung: Fortbildun
 gen / Seminare / Vorträge\nVeranstaltungsort: Autobahn- und Radwegskirche 
 St. Paul in Wittlich\nArnold-Janssen-Straße 1\n54516 Wittlich\nKurzbeschre
 ibung / Untertitel: Wie wertvoll die Pressefreiheit ist\, zeigt sich vor a
 llem da\, wo es sie nicht mehr gibt.\nAusführliche Beschreibung: Wie wertv
 oll die Pressefreiheit ist\, zeigt sich vor allem da\, wo es sie nicht meh
 r gibt: Wo Menschen in Gefängnisse gesteckt werden\, weil sie kritisch ber
 ichten\; wo die Mächtigen tun\, was sie wollen\; wo das Volk keine Chance 
 hat\, zu erfahren\, was wirklich vor sich geht.\nDeutschland ist in Sachen
  Pressefreiheit zuletzt auf den zehnten Platz vorgerückt. Zum Glück ist di
 e Lage für Journalistinnen und Journalisten – und damit auch jene der Demo
 kratie – hier tatsächlich deutlich besser als in vielen anderen Ländern. A
 ber auch bei uns gerät die Pressefreiheit unter Druck. Gewalt am Rande von
  Corona-Demos\, Lügenpresse-Rufe oder die allgegenwärtige verbale Aggressi
 on in den sozialen Medien haben das Arbeitsklima rauer werden lassen. \nWa
 rum die Arbeit der Journalisten dennoch nicht nur wichtig\, sondern auch e
 rfüllend ist\, berichtet die Referentin.\nKatharina de Mos\, Jg. 1977\, st
 udierte Geographie und Romanistik und ist seit 2012 Chefreporterin beim Tr
 ierischen Volksfreund.\nInternetadresse (eigene Infos im Internet): https:
 //autobahnkirche-wittlich.mobirisesite.com/Samstagabendgespraeche.html\nFö
 rderbereich: Gesellschaft\, Politik und Wirtschaft\nReferent/in: Katharina
  de Mos\, Jg. 1977\, studierte Geographie und Romanistik und ist seit 2012
  Chefreporterin beim Trierischen Volksfreund.\nAnsprechpartner/in - Leitun
 g: Förderverein Autobahnkirche St. Paul Wittlich e.V.\nDieter Burgard\ninf
 o@autobahnkirche-stpaul.de\nKosten: kostenfrei\nZusatzinformationen: In Ko
 operation mit:\nTheologisches Quartett Trier e.V.\nLeserinitiative Publik-
 Forum e.V.\nSparkasse Trier\nVolkshochschule der Stadt Trier
DTSTART;TZID=Europe/Berlin:20250118T180000
DTEND;TZID=Europe/Berlin:20250118T190000
LOCATION:Wittlich: Autobahn- und Radwegskirche St. Paul in Wittlich
SUMMARY:Pressefreiheit unter Druck? Journalismus in schwierigen Zeiten :: W
 ie wertvoll die Pressefreiheit ist\, zeigt sich vor allem da\, wo es sie n
 icht mehr gibt.
URL:https://termine.ekir.de/veranstaltung_im_detail875686.html
END:VEVENT
END:VCALENDAR
