BEGIN:VCALENDAR
VERSION:2.0
PRODID:-//evangelische-termine.de//NONSGML kigkonsult.se iCalcreator 2.18//
CALSCALE:GREGORIAN
METHOD:PUBLISH
X-WR-CALNAME:iCal Evangelische-Termine 20.04.2026
X-WR-CALDESC:iCalender von Evangelische-Termine (20.04.2026)
X-WR-TIMEZONE:Europe/Berlin
X-MS-OLK-FORCEINSPECTOROPEN:TRUE
BEGIN:VTIMEZONE
TZID:Europe/Berlin
BEGIN:STANDARD
DTSTART:19701025T030000
TZOFFSETFROM:+0200
TZOFFSETTO:+0100
RRULE:FREQ=YEARLY;BYDAY=-1SU;BYMONTH=10
TZNAME:CET
END:STANDARD
BEGIN:DAYLIGHT
DTSTART:19700329T020000
TZOFFSETFROM:+0100
TZOFFSETTO:+0200
RRULE:FREQ=YEARLY;BYDAY=-1SU;BYMONTH=3
TZNAME:CEST
END:DAYLIGHT
END:VTIMEZONE
BEGIN:VEVENT
UID:20250119T110000-875696@evangelische-termine.de
DTSTAMP:20260419T225856Z
DESCRIPTION:\nKirchenkreis: überregional\nArt der Veranstaltung: Fortbildun
 gen / Seminare / Vorträge\nVeranstaltungsort: Theologisches Quartett Trier
  e.V.\nDomfreihof 1b\n54290 Trier\nKurzbeschreibung / Untertitel: Wie wert
 voll die Pressefreiheit ist\, zeigt sich vor allem da\, wo es sie nicht me
 hr gibt.\nAusführliche Beschreibung: Wie wertvoll die Pressefreiheit ist\,
  zeigt sich vor allem da\, wo es sie nicht mehr gibt: Wo Menschen in Gefän
 gnisse gesteckt werden\, weil sie kritisch berichten\; wo die Mächtigen tu
 n\, was sie wollen\; wo das Volk keine Chance hat\, zu erfahren\, was wirk
 lich vor sich geht.\nDeutschland ist in Sachen Pressefreiheit zuletzt auf 
 den zehnten Platz vorgerückt. Zum Glück ist die Lage für Journalistinnen u
 nd Journalisten – und damit auch jene der Demokratie – hier tatsächlich de
 utlich besser als in vielen anderen Ländern. Aber auch bei uns gerät die P
 ressefreiheit unter Druck. Gewalt am Rande von Corona-Demos\, Lügenpresse-
 Rufe oder die allgegenwärtige verbale Aggression in den sozialen Medien ha
 ben das Arbeitsklima rauer werden lassen. \nWarum die Arbeit der Journalis
 ten dennoch nicht nur wichtig\, sondern auch erfüllend ist\, berichtet die
  Referentin.\nInternetadresse (eigene Infos im Internet): http://www.tqt-t
 rier.de\nFörderbereich: Politische Bildung\nReferent/in: Katharina de Mos\
 , Jg. 1977\, studierte Geographie und Romanistik und ist seit 2012 Chefrep
 orterin beim Trierischen Volksfreund\nAnsprechpartner/in - Leitung: Theolo
 gisches Quartett Trier e.V.\,\nReinhold Hoffmann\, Vorstandssprecher\nhoff
 mann@tqt-trier.de\nKosten: 7\,– €\, ermäßigt 5\,– €\nZusatzinformationen: 
 In Kooperation mit:\nFörderverein Autobahnkirche St. Paul\, Wittlich \nLes
 erinitiative Publik-Forum e.V.\nSparkasse Trier\nVolkshochschule der Stadt
  Trier
DTSTART;TZID=Europe/Berlin:20250119T110000
DTEND;TZID=Europe/Berlin:20250119T120000
LOCATION:Trier: Theologisches Quartett Trier e.V.
SUMMARY:Pressefreiheit unter Druck? Journalismus in schwierigen Zeiten :: W
 ie wertvoll die Pressefreiheit ist\, zeigt sich vor allem da\, wo es sie n
 icht mehr gibt.
URL:https://termine.ekir.de/veranstaltung_im_detail875696.html
END:VEVENT
END:VCALENDAR
