BEGIN:VCALENDAR
VERSION:2.0
PRODID:-//evangelische-termine.de//NONSGML kigkonsult.se iCalcreator 2.18//
CALSCALE:GREGORIAN
METHOD:PUBLISH
X-WR-CALNAME:iCal Evangelische-Termine 19.04.2026
X-WR-CALDESC:iCalender von Evangelische-Termine (19.04.2026)
X-WR-TIMEZONE:Europe/Berlin
X-MS-OLK-FORCEINSPECTOROPEN:TRUE
BEGIN:VTIMEZONE
TZID:Europe/Berlin
BEGIN:STANDARD
DTSTART:19701025T030000
TZOFFSETFROM:+0200
TZOFFSETTO:+0100
RRULE:FREQ=YEARLY;BYDAY=-1SU;BYMONTH=10
TZNAME:CET
END:STANDARD
BEGIN:DAYLIGHT
DTSTART:19700329T020000
TZOFFSETFROM:+0100
TZOFFSETTO:+0200
RRULE:FREQ=YEARLY;BYDAY=-1SU;BYMONTH=3
TZNAME:CEST
END:DAYLIGHT
END:VTIMEZONE
BEGIN:VEVENT
UID:20250208T180000-875704@evangelische-termine.de
DTSTAMP:20260419T211210Z
DESCRIPTION:\nKirchenkreis: überregional\nArt der Veranstaltung: Fortbildun
 gen / Seminare / Vorträge\nVeranstaltungsort: Autobahn- und Radwegskirche 
 St. Paul in Wittlich\nArnold-Janssen-Straße 1\n54516 Wittlich\nKurzbeschre
 ibung / Untertitel: Im israelisch-palästinensischen Konflikt ist der Kampf
  um die Deutungshoheit von zentraler\, wenn auch oft übersehener Bedeutung
 .\nAusführliche Beschreibung: Im israelisch-palästinensischen Konflikt ist
  der Kampf um die Deutungshoheit von zentraler\, wenn auch oft übersehener
  Bedeutung. Es geht um die Legitimierung eigener und die De-Legitimierung 
 gegnerischer Positionen durch Sprache. Je nach Sprecherpositionwerden glei
 che Sachverhalte ungleich bezeichnet – oder bezeichnen gleiche Wörter ungl
 eiche Sachverhalte. Was die einen „Westjordanland“ nennen\, heißt bei ande
 ren „Judäa und Samaria“. Wer „Palästina“ sagt\, kann die palästinensischen
  Gebiete meinen – oder die ganze südliche Levante vom Jordan bis zum Mitte
 lmeer. Um den politischen Konflikt zu verstehen\, muss man sich auch mit d
 en Sprechweisen der Beteiligten befassen – einschließlich des Ge- und Miss
 brauchs von NS-Vergleichen.\nInternetadresse (eigene Infos im Internet): h
 ttps://autobahnkirche-wittlich.mobirisesite.com/Samstagabendgespraeche.htm
 l\nFörderbereich: Gesellschaft\, Politik und Wirtschaft\nReferent/in: Mich
 ael Mertes\, Jg. 1953\, Autor\, Publizist und literarischer Übersetzer\, l
 eitete nach Tätigkeiten im Bundeskanzleramt und der NRW-Staatskanzlei von 
 2011 bis 2014 das Auslandsbüro der Konrad-Adenauer-Stiftung in Jerusalem.
 \nAnsprechpartner/in - Leitung: Förderverein Autobahnkirche St. Paul Wittl
 ich e.V.\nDieter Burgard\ninfo@autobahnkirche-stpaul.de\nKosten: kostenfre
 i\nZusatzinformationen: In Kooperation mit:\nTheologisches Quartett Trier 
 e.V.\nLeserinitiative Publik-Forum e.V.\nSparkasse Trier\nVolkshochschule 
 der Stadt Trier
DTSTART;TZID=Europe/Berlin:20250208T180000
DTEND;TZID=Europe/Berlin:20250208T190000
LOCATION:Wittlich: Autobahn- und Radwegskirche St. Paul in Wittlich
SUMMARY:Sprachverwirrungen: Meinen wir das Gleiche? :: Im israelisch-paläst
 inensischen Konflikt ist der Kampf um die Deutungshoheit von zentraler\, w
 enn auch oft übersehener Bedeutung.
URL:https://termine.ekir.de/veranstaltung_im_detail875704.html
END:VEVENT
END:VCALENDAR
