BEGIN:VCALENDAR
VERSION:2.0
PRODID:-//evangelische-termine.de//NONSGML kigkonsult.se iCalcreator 2.18//
CALSCALE:GREGORIAN
METHOD:PUBLISH
X-WR-CALNAME:iCal Evangelische-Termine 19.04.2026
X-WR-CALDESC:iCalender von Evangelische-Termine (19.04.2026)
X-WR-TIMEZONE:Europe/Berlin
X-MS-OLK-FORCEINSPECTOROPEN:TRUE
BEGIN:VTIMEZONE
TZID:Europe/Berlin
BEGIN:STANDARD
DTSTART:19701025T030000
TZOFFSETFROM:+0200
TZOFFSETTO:+0100
RRULE:FREQ=YEARLY;BYDAY=-1SU;BYMONTH=10
TZNAME:CET
END:STANDARD
BEGIN:DAYLIGHT
DTSTART:19700329T020000
TZOFFSETFROM:+0100
TZOFFSETTO:+0200
RRULE:FREQ=YEARLY;BYDAY=-1SU;BYMONTH=3
TZNAME:CEST
END:DAYLIGHT
END:VTIMEZONE
BEGIN:VEVENT
UID:20250209T110000-875707@evangelische-termine.de
DTSTAMP:20260419T211211Z
DESCRIPTION:\nKirchenkreis: überregional\nArt der Veranstaltung: Fortbildun
 gen / Seminare / Vorträge\nVeranstaltungsort: Theologisches Quartett Trier
  e.V.\nDomfreihof 1b\n54290 Trier\nKurzbeschreibung / Untertitel: Im israe
 lisch-palästinensischen Konflikt ist der Kampf um die Deutungshoheit von z
 entraler\, wenn auch oft übersehener Bedeutung.\nAusführliche Beschreibung
 : Im israelisch-palästinensischen Konflikt ist der Kampf um die Deutungsho
 heit von zentraler\, wenn auch oft übersehener Bedeutung. Es geht um die L
 egitimierung eigener und die De-Legitimierung gegnerischer Positionen durc
 h Sprache. Je nach Sprecherpositionwerden gleiche Sachverhalte ungleich be
 zeichnet – oder bezeichnen gleiche Wörter ungleiche Sachverhalte. Was die 
 einen „Westjordanland“ nennen\, heißt bei anderen „Judäa und Samaria“. Wer
  „Palästina“ sagt\, kann die palästinensischen Gebiete meinen – oder die g
 anze südliche Levante vom Jordan bis zum Mittelmeer. Um den politischen Ko
 nflikt zu verstehen\, muss man sich auch mit den Sprechweisen der Beteilig
 ten befassen – einschließlich des Ge- und Missbrauchs von NS-Vergleichen.
 \nInternetadresse (eigene Infos im Internet): http://www.tqt-trier.de\nFör
 derbereich: Politische Bildung\nReferent/in: Michael Mertes\, Jg. 1953\, A
 utor\, Publizist und literarischer Übersetzer\, leitete nach Tätigkeiten i
 m Bundeskanzleramt und der NRW-Staatskanzlei von 2011 bis 2014 das Ausland
 sbüro der Konrad-Adenauer-Stiftung in Jerusalem.\nAnsprechpartner/in - Lei
 tung: Theologisches Quartett Trier e.V.\,\nReinhold Hoffmann\, Vorstandssp
 recher\nhoffmann@tqt-trier.de\nKosten: 7\,– €\, ermäßigt 5\,– €\nZusatzinf
 ormationen: In Kooperation mit:\nFörderverein Autobahnkirche St. Paul\, Wi
 ttlich \nLeserinitiative Publik-Forum e.V.\nSparkasse Trier\nVolkshochschu
 le der Stadt Trier
DTSTART;TZID=Europe/Berlin:20250209T110000
DTEND;TZID=Europe/Berlin:20250209T120000
LOCATION:Trier: Theologisches Quartett Trier e.V.
SUMMARY:Sprachverwirrungen: Meinen wir das Gleiche? :: Im israelisch-paläst
 inensischen Konflikt ist der Kampf um die Deutungshoheit von zentraler\, w
 enn auch oft übersehener Bedeutung.
URL:https://termine.ekir.de/veranstaltung_im_detail875707.html
END:VEVENT
END:VCALENDAR
