BEGIN:VCALENDAR
VERSION:2.0
PRODID:-//evangelische-termine.de//NONSGML kigkonsult.se iCalcreator 2.18//
CALSCALE:GREGORIAN
METHOD:PUBLISH
X-WR-CALNAME:iCal Evangelische-Termine 19.04.2026
X-WR-CALDESC:iCalender von Evangelische-Termine (19.04.2026)
X-WR-TIMEZONE:Europe/Berlin
X-MS-OLK-FORCEINSPECTOROPEN:TRUE
BEGIN:VTIMEZONE
TZID:Europe/Berlin
BEGIN:STANDARD
DTSTART:19701025T030000
TZOFFSETFROM:+0200
TZOFFSETTO:+0100
RRULE:FREQ=YEARLY;BYDAY=-1SU;BYMONTH=10
TZNAME:CET
END:STANDARD
BEGIN:DAYLIGHT
DTSTART:19700329T020000
TZOFFSETFROM:+0100
TZOFFSETTO:+0200
RRULE:FREQ=YEARLY;BYDAY=-1SU;BYMONTH=3
TZNAME:CEST
END:DAYLIGHT
END:VTIMEZONE
BEGIN:VEVENT
UID:20250315T180000-875708@evangelische-termine.de
DTSTAMP:20260419T211050Z
DESCRIPTION:\nKirchenkreis: überregional\nArt der Veranstaltung: Fortbildun
 gen / Seminare / Vorträge\nVeranstaltungsort: Autobahn- und Radwegskirche 
 St. Paul in Wittlich\nArnold-Janssen-Straße 1\n54516 Wittlich\nKurzbeschre
 ibung / Untertitel: Die moderne Konzeption des Friedens geht maßgeblich au
 f Kants philosophischen Entwurf zum ewigen Frieden von 1795 zurück.\nAusfü
 hrliche Beschreibung: Die moderne Konzeption des Friedens geht maßgeblich 
 auf Kants „philosophischen Entwurf“ zum „ewigen Frieden“ von 1795 zurück. 
 Kant realisierte\, dass die technisch aufgerüstete Kriegführung künftig be
 ispiellose Destruktionsgewalten entfesseln würde. Er erkannte weitsichtig 
 die Bedeutung republikanischer Rechtsordnungen sowie einer internationalen
 \, föderativen Friedensordnung\, gestützt auf Völkerrecht und ein Weltbürg
 errecht. Der Vortrag stellt Kant als einen Pazifisten avant la lettre vor\
 , der bis heute die Hoffnungsseite von Friedensbewegungen repräsentiert.\n
 Internetadresse (eigene Infos im Internet): https://autobahnkirche-wittlic
 h.mobirisesite.com/Samstagabendgespraeche.html\nFörderbereich: Gesellschaf
 t\, Politik und Wirtschaft\nReferent/in: Jakob Tanner\, Jg. 1950\, ist Pro
 fessor em. für Geschichte an der Universität Zürich. Ende der 1990er Jahre
  war er Mitglied der „Unabhängigen Expertenkommission Schweiz – Zweiter We
 ltkrieg“. Zurzeit schreibt er ein Buch zu den „Paradoxien des Pazifismus“.
 \nAnsprechpartner/in - Leitung: Förderverein Autobahnkirche St. Paul Wittl
 ich e.V.\nDieter Burgard\ninfo@autobahnkirche-stpaul.de\nKosten: kostenfre
 i\nZusatzinformationen: In Kooperation mit:\nTheologisches Quartett Trier 
 e.V.\nLeserinitiative Publik-Forum e.V.\nSparkasse Trier\nVolkshochschule 
 der Stadt Trier
DTSTART;TZID=Europe/Berlin:20250315T180000
DTEND;TZID=Europe/Berlin:20250315T190000
LOCATION:Wittlich: Autobahn- und Radwegskirche St. Paul in Wittlich
SUMMARY:Kant und der Ewige Frieden: Immer noch aktuell?! :: Die moderne Kon
 zeption des Friedens geht maßgeblich auf Kants philosophischen Entwurf zum
  ewigen Frieden von 1795 zurück.
URL:https://termine.ekir.de/veranstaltung_im_detail875708.html
END:VEVENT
END:VCALENDAR
