BEGIN:VCALENDAR
VERSION:2.0
PRODID:-//evangelische-termine.de//NONSGML kigkonsult.se iCalcreator 2.18//
CALSCALE:GREGORIAN
METHOD:PUBLISH
X-WR-CALNAME:iCal Evangelische-Termine 19.04.2026
X-WR-CALDESC:iCalender von Evangelische-Termine (19.04.2026)
X-WR-TIMEZONE:Europe/Berlin
X-MS-OLK-FORCEINSPECTOROPEN:TRUE
BEGIN:VTIMEZONE
TZID:Europe/Berlin
BEGIN:STANDARD
DTSTART:19701025T030000
TZOFFSETFROM:+0200
TZOFFSETTO:+0100
RRULE:FREQ=YEARLY;BYDAY=-1SU;BYMONTH=10
TZNAME:CET
END:STANDARD
BEGIN:DAYLIGHT
DTSTART:19700329T020000
TZOFFSETFROM:+0100
TZOFFSETTO:+0200
RRULE:FREQ=YEARLY;BYDAY=-1SU;BYMONTH=3
TZNAME:CEST
END:DAYLIGHT
END:VTIMEZONE
BEGIN:VEVENT
UID:20250316T110000-875709@evangelische-termine.de
DTSTAMP:20260419T211051Z
DESCRIPTION:\nKirchenkreis: überregional\nArt der Veranstaltung: Fortbildun
 gen / Seminare / Vorträge\nVeranstaltungsort: Theologisches Quartett Trier
  e.V.\nDomfreihof 1b\n54290 Trier\nKurzbeschreibung / Untertitel: Die mode
 rne Konzeption des Friedens geht maßgeblich auf Kants philosophischen Entw
 urf zum ewigen Frieden von 1795 zurück.\nAusführliche Beschreibung: Die mo
 derne Konzeption des Friedens geht maßgeblich auf Kants „philosophischen E
 ntwurf“ zum „ewigen Frieden“ von 1795 zurück. Kant realisierte\, dass die 
 technisch aufgerüstete Kriegführung künftig beispiellose Destruktionsgewal
 ten entfesseln würde. Er erkannte weitsichtig die Bedeutung republikanisch
 er Rechtsordnungen sowie einer internationalen\, föderativen Friedensordnu
 ng\, gestützt auf Völkerrecht und ein Weltbürgerrecht. Der Vortrag stellt 
 Kant als einen Pazifisten avant la lettre vor\, der bis heute die Hoffnung
 sseite von Friedensbewegungen repräsentiert.\nInternetadresse (eigene Info
 s im Internet): http://www.tqt-trier.de\nFörderbereich: Politische Bildung
 \nReferent/in: Jakob Tanner\, Jg. 1950\, ist Professor em. für Geschichte 
 an der Universität Zürich. Ende der 1990er Jahre war er Mitglied der „Unab
 hängigen Expertenkommission Schweiz – Zweiter Weltkrieg“. Zurzeit schreibt
  er ein Buch zu den „Paradoxien des Pazifismus“.\nAnsprechpartner/in - Lei
 tung: Theologisches Quartett Trier e.V.\,\nReinhold Hoffmann\, Vorstandssp
 recher\nhoffmann@tqt-trier.de\nKosten: 7\,– €\, ermäßigt 5\,– €\nZusatzinf
 ormationen: In Kooperation mit:\nFörderverein Autobahnkirche St. Paul\, Wi
 ttlich \nLeserinitiative Publik-Forum e.V.\nSparkasse Trier\nVolkshochschu
 le der Stadt Trier
DTSTART;TZID=Europe/Berlin:20250316T110000
DTEND;TZID=Europe/Berlin:20250316T120000
LOCATION:Trier: Theologisches Quartett Trier e.V.
SUMMARY:Kant und der „Ewige Frieden“: Immer noch aktuell?! :: Die moderne K
 onzeption des Friedens geht maßgeblich auf Kants philosophischen Entwurf z
 um ewigen Frieden von 1795 zurück.
URL:https://termine.ekir.de/veranstaltung_im_detail875709.html
END:VEVENT
END:VCALENDAR
