BEGIN:VCALENDAR
VERSION:2.0
PRODID:-//evangelische-termine.de//NONSGML kigkonsult.se iCalcreator 2.18//
CALSCALE:GREGORIAN
METHOD:PUBLISH
X-WR-CALNAME:iCal Evangelische-Termine 19.04.2026
X-WR-CALDESC:iCalender von Evangelische-Termine (19.04.2026)
X-WR-TIMEZONE:Europe/Berlin
X-MS-OLK-FORCEINSPECTOROPEN:TRUE
BEGIN:VTIMEZONE
TZID:Europe/Berlin
BEGIN:STANDARD
DTSTART:19701025T030000
TZOFFSETFROM:+0200
TZOFFSETTO:+0100
RRULE:FREQ=YEARLY;BYDAY=-1SU;BYMONTH=10
TZNAME:CET
END:STANDARD
BEGIN:DAYLIGHT
DTSTART:19700329T020000
TZOFFSETFROM:+0100
TZOFFSETTO:+0200
RRULE:FREQ=YEARLY;BYDAY=-1SU;BYMONTH=3
TZNAME:CEST
END:DAYLIGHT
END:VTIMEZONE
BEGIN:VEVENT
UID:20250218T193000-875782@evangelische-termine.de
DTSTAMP:20260419T211214Z
DESCRIPTION:\nKirchenkreis: Trier\nArt der Veranstaltung: Fortbildungen / S
 eminare / Vorträge\nVeranstaltungsort: Broadway-Filmtheater\nPaulinstraße 
 18\n5429 Trier\nKurzbeschreibung / Untertitel: eine Filmreihe mit anschlie
 ßendem Gespräch und Austausch\nAusführliche Beschreibung: Im Anschluss an 
 die Filme besteht die Möglichkeit zu einem Filmgespräch oder Fragen zum Be
 treuungsrecht und Vorsorgemöglichkeiten.\nWeitere Termine dieser Reihe:\n2
 9.04.2025 „Wann wird es endlich wieder so\, wie es nie war?“\n16.09.2025 „
 Alles außer gewöhnlich“\n11.11.2025 „The Outrun“\nFörderbereich: Gesellsch
 aft\, Politik und Wirtschaft\nReferent/in: Caroline Klasen und Jürgen Etze
 l\nAnsprechpartner/in - Leitung: Betreuungsvereine im Diakonischen Werk de
 s Ev. Kirchenkreises Trier e.V. und des Sozialdienst katholischer Frauen T
 rier e.V.\nKosten: Kinopreise\nZusatzinformationen: Keine Anmeldung erford
 erlich.
DTSTART;TZID=Europe/Berlin:20250218T193000
DTEND;TZID=Europe/Berlin:20250218T203000
LOCATION:Trier: Broadway-Filmtheater
SUMMARY:Psychiatrie im Film – „The Room Next Door“ :: eine Filmreihe mit an
 schließendem Gespräch und Austausch
URL:https://termine.ekir.de/veranstaltung_im_detail875782.html
END:VEVENT
END:VCALENDAR
