BEGIN:VCALENDAR
VERSION:2.0
PRODID:-//evangelische-termine.de//NONSGML kigkonsult.se iCalcreator 2.18//
CALSCALE:GREGORIAN
METHOD:PUBLISH
X-WR-CALNAME:iCal Evangelische-Termine 19.04.2026
X-WR-CALDESC:iCalender von Evangelische-Termine (19.04.2026)
X-WR-TIMEZONE:Europe/Berlin
X-MS-OLK-FORCEINSPECTOROPEN:TRUE
BEGIN:VTIMEZONE
TZID:Europe/Berlin
BEGIN:STANDARD
DTSTART:19701025T030000
TZOFFSETFROM:+0200
TZOFFSETTO:+0100
RRULE:FREQ=YEARLY;BYDAY=-1SU;BYMONTH=10
TZNAME:CET
END:STANDARD
BEGIN:DAYLIGHT
DTSTART:19700329T020000
TZOFFSETFROM:+0100
TZOFFSETTO:+0200
RRULE:FREQ=YEARLY;BYDAY=-1SU;BYMONTH=3
TZNAME:CEST
END:DAYLIGHT
END:VTIMEZONE
BEGIN:VEVENT
UID:20250306T180000-875796@evangelische-termine.de
DTSTAMP:20260419T211050Z
DESCRIPTION:\nKirchenkreis: Trier\nArt der Veranstaltung: Fortbildungen / S
 eminare / Vorträge\nVeranstaltungsort: Diakonisches Werk Trier\nTheobaldst
 raße 10\n54292 Trier\nKurzbeschreibung / Untertitel: 4 Seminare zu Betreuu
 ngsrecht und Vorsorgemöglichkeiten\nAusführliche Beschreibung: I)   Einfüh
 rung in das Betreuungsrecht am 06.03.2025\nII)  Aufgaben der Betreuenden a
 m 13.03.2025\nIII) Ansprüche im Betreuungsrecht und Änderungsgesetze am 20
 .03.2025\nIV) Vorsorgemöglichkeiten am 27.03.2025\nInternetadresse (eigene
  Infos im Internet): https://diakoniehilft.ekir.de/thema/betreuungsverein-
 im-diakonischen-werk-trier-e-v/\nFörderbereich: Soziale Fragen und soziale
  Dienste\nReferent/in: Jürgen Etzel\, Dipl. Päd.\nAnsprechpartner/in - Lei
 tung: Betreuungsverein im Diakonischen Werk des Ev. Kirchenkreises Trier e
 .V.\nTheobaldstraße 10\, 54292 Trier\nJürgen Etzel\nTel.: 0651 20900-42\nK
 osten: kostenfrei\nZusatzinformationen: Anmeldung bis 28.02.2025\ntelefoni
 sch 0651 20900-42/84 oder\nper E-Mail: etzel@diakoniehilft.de
DTSTART;TZID=Europe/Berlin:20250306T180000
DTEND;TZID=Europe/Berlin:20250306T200000
LOCATION:Trier: Diakonisches Werk Trier
SUMMARY:Seminare Betreuungsrecht und Vorsorgemöglichkeiten :: I) Einführung
  in das Betreuungsrecht
URL:https://termine.ekir.de/veranstaltung_im_detail875796.html
END:VEVENT
END:VCALENDAR
