BEGIN:VCALENDAR
VERSION:2.0
PRODID:-//evangelische-termine.de//NONSGML kigkonsult.se iCalcreator 2.18//
CALSCALE:GREGORIAN
METHOD:PUBLISH
X-WR-CALNAME:iCal Evangelische-Termine 19.04.2026
X-WR-CALDESC:iCalender von Evangelische-Termine (19.04.2026)
X-WR-TIMEZONE:Europe/Berlin
X-MS-OLK-FORCEINSPECTOROPEN:TRUE
BEGIN:VTIMEZONE
TZID:Europe/Berlin
BEGIN:STANDARD
DTSTART:19701025T030000
TZOFFSETFROM:+0200
TZOFFSETTO:+0100
RRULE:FREQ=YEARLY;BYDAY=-1SU;BYMONTH=10
TZNAME:CET
END:STANDARD
BEGIN:DAYLIGHT
DTSTART:19700329T020000
TZOFFSETFROM:+0100
TZOFFSETTO:+0200
RRULE:FREQ=YEARLY;BYDAY=-1SU;BYMONTH=3
TZNAME:CEST
END:DAYLIGHT
END:VTIMEZONE
BEGIN:VEVENT
UID:20251009T180000-875801@evangelische-termine.de
DTSTAMP:20260419T173054Z
DESCRIPTION:\nKirchenkreis: Trier\nArt der Veranstaltung: Fortbildungen / S
 eminare / Vorträge\nVeranstaltungsort: Diakonisches Werk Trier\nTheobaldst
 raße 10\n54292 Trier\nKurzbeschreibung / Untertitel: Austausch und Diskuss
 ion für Betreuer\nAusführliche Beschreibung: Unter dem Motto „Betreuer ber
 aten Betreuer“ besteht die Möglichkeit\, eigene Erfahrungen oder eigene Fr
 agestellungen mit anderen rechtlichen Betreuern zu diskutieren.\nInterneta
 dresse (eigene Infos im Internet): https://diakoniehilft.ekir.de/thema/bet
 reuungsverein-im-diakonischen-werk-trier-e-v/\nFörderbereich: Soziale Frag
 en und soziale Dienste\nReferent/in: Jürgen Etzel\, Dipl. Päd.\nAnsprechpa
 rtner/in - Leitung: Betreuungsverein im Diakonischen Werk des Ev. Kirchenk
 reises Trier e.V.\nTheobaldstraße 10\, 54292 Trier\nJürgen Etzel\nTel.: 06
 51 20900-42\nKosten: kostenfrei\nZusatzinformationen: Anmeldung bis 04.04.
 2025 und 03.10.2025\ntelefonisch 0651 20900-42/84 oder\nper E-Mail: etzel@
 diakoniehilft.de
DTSTART;TZID=Europe/Berlin:20251009T180000
DTEND;TZID=Europe/Berlin:20251009T200000
LOCATION:Trier: Diakonisches Werk Trier
SUMMARY:Erfahrungsaustausch :: Austausch und Diskussion für Betreuer
URL:https://termine.ekir.de/veranstaltung_im_detail875801.html
END:VEVENT
END:VCALENDAR
