BEGIN:VCALENDAR
VERSION:2.0
PRODID:-//evangelische-termine.de//NONSGML kigkonsult.se iCalcreator 2.18//
CALSCALE:GREGORIAN
METHOD:PUBLISH
X-WR-CALNAME:iCal Evangelische-Termine 19.04.2026
X-WR-CALDESC:iCalender von Evangelische-Termine (19.04.2026)
X-WR-TIMEZONE:Europe/Berlin
X-MS-OLK-FORCEINSPECTOROPEN:TRUE
BEGIN:VTIMEZONE
TZID:Europe/Berlin
BEGIN:STANDARD
DTSTART:19701025T030000
TZOFFSETFROM:+0200
TZOFFSETTO:+0100
RRULE:FREQ=YEARLY;BYDAY=-1SU;BYMONTH=10
TZNAME:CET
END:STANDARD
BEGIN:DAYLIGHT
DTSTART:19700329T020000
TZOFFSETFROM:+0100
TZOFFSETTO:+0200
RRULE:FREQ=YEARLY;BYDAY=-1SU;BYMONTH=3
TZNAME:CEST
END:DAYLIGHT
END:VTIMEZONE
BEGIN:VEVENT
UID:20250327T190000-875805@evangelische-termine.de
DTSTAMP:20260419T211215Z
DESCRIPTION:\nKirchenkreis: An Nahe und Glan\nArt der Veranstaltung: Fortbi
 ldungen / Seminare / Vorträge\nVeranstaltungsort: BRÜCKE\, das Gemeindehau
 s der Ev. Kirchengemeinde Becherbach\nIm Winkel 2\n55608 Becherbach bei Ki
 rn\nKurzbeschreibung / Untertitel: Bildvortrag Namibia\nAusführliche Besch
 reibung: Ein Bildvortrag und Austausch zu dem Gesehenen und Erlebten für a
 lle Interessierten.\nFörderbereich: Internationales\, Völkerverständigung\
 , Multikulturelle Gesellschaft\nReferent/in: Pfarrer i.R. Friedrich Mayer\
 , \nKirsten Arnswald\, Pfarrerin und Leiterin des eeb\nAnsprechpartner/in 
 - Leitung: Kirsten Arnswald\, Pfarrerin und Leiterin des eeb\nKosten: kost
 enfrei\nZusatzinformationen: Anmeldung nicht erforderlich.
DTSTART;TZID=Europe/Berlin:20250327T190000
DTEND;TZID=Europe/Berlin:20250327T210000
LOCATION:Becherbach bei Kirn: BRÜCKE\, das Gemeindehaus der Ev. Kirchengeme
 inde Becherbach
SUMMARY:Namibia gestern und heute – Rückblick Bildungsreise Namibia - ABGES
 AGT! :: Bildvortrag zu Namibia
URL:https://termine.ekir.de/veranstaltung_im_detail875805.html
END:VEVENT
END:VCALENDAR
