BEGIN:VCALENDAR
VERSION:2.0
PRODID:-//evangelische-termine.de//NONSGML kigkonsult.se iCalcreator 2.18//
CALSCALE:GREGORIAN
METHOD:PUBLISH
X-WR-CALNAME:iCal Evangelische-Termine 19.04.2026
X-WR-CALDESC:iCalender von Evangelische-Termine (19.04.2026)
X-WR-TIMEZONE:Europe/Berlin
X-MS-OLK-FORCEINSPECTOROPEN:TRUE
BEGIN:VTIMEZONE
TZID:Europe/Berlin
BEGIN:STANDARD
DTSTART:19701025T030000
TZOFFSETFROM:+0200
TZOFFSETTO:+0100
RRULE:FREQ=YEARLY;BYDAY=-1SU;BYMONTH=10
TZNAME:CET
END:STANDARD
BEGIN:DAYLIGHT
DTSTART:19700329T020000
TZOFFSETFROM:+0100
TZOFFSETTO:+0200
RRULE:FREQ=YEARLY;BYDAY=-1SU;BYMONTH=3
TZNAME:CEST
END:DAYLIGHT
END:VTIMEZONE
BEGIN:VEVENT
UID:20250329T100000-875807@evangelische-termine.de
DTSTAMP:20260419T211210Z
DESCRIPTION:\nKirchenkreis: überregional\nArt der Veranstaltung: Fortbildun
 gen / Seminare / Vorträge\nVeranstaltungsort: online\n- -\nKurzbeschreibun
 g / Untertitel: Fortbildung für ehrenamtlich oder hauptamtlich Tätige in B
 üchereien\nAusführliche Beschreibung: Informativer und praxisnaher Austaus
 ch rund um die Software BVS.\nFörderbereich: Ehrenamt\nReferent/in: Helena
  Schäuble\nAnsprechpartner/in - Leitung: Helena Schäuble\nKosten: 20\,– €
 \nZusatzinformationen: Anmeldung bis 22.03.2025\nVor der Veranstaltung erh
 alten Sie von uns den Zoom-Link für die Teilnahme.\nBitte prüfen Sie auch 
 ihren SPAM-Ordner.\n: \nAnsprechpartner: Helena Schäuble anmeldung@eeb-sue
 d.de\nTelefon 06761/7018\nwww.eeb-sued.de
DTSTART;TZID=Europe/Berlin:20250329T100000
DTEND;TZID=Europe/Berlin:20250329T123000
LOCATION:-: online
SUMMARY:Austausch für Anwender der Büchereisoftware BVS –  Neuerungen\, Fra
 gen und Herausforderungen :: Fortbildung für ehrenamtlich oder hauptamtlic
 h Tätige in Büchereien
URL:https://termine.ekir.de/veranstaltung_im_detail875807.html
END:VEVENT
END:VCALENDAR
