BEGIN:VCALENDAR
VERSION:2.0
PRODID:-//evangelische-termine.de//NONSGML kigkonsult.se iCalcreator 2.18//
CALSCALE:GREGORIAN
METHOD:PUBLISH
X-WR-CALNAME:iCal Evangelische-Termine 19.04.2026
X-WR-CALDESC:iCalender von Evangelische-Termine (19.04.2026)
X-WR-TIMEZONE:Europe/Berlin
X-MS-OLK-FORCEINSPECTOROPEN:TRUE
BEGIN:VTIMEZONE
TZID:Europe/Berlin
BEGIN:STANDARD
DTSTART:19701025T030000
TZOFFSETFROM:+0200
TZOFFSETTO:+0100
RRULE:FREQ=YEARLY;BYDAY=-1SU;BYMONTH=10
TZNAME:CET
END:STANDARD
BEGIN:DAYLIGHT
DTSTART:19700329T020000
TZOFFSETFROM:+0100
TZOFFSETTO:+0200
RRULE:FREQ=YEARLY;BYDAY=-1SU;BYMONTH=3
TZNAME:CEST
END:DAYLIGHT
END:VTIMEZONE
BEGIN:VEVENT
UID:20250429T090000-875812@evangelische-termine.de
DTSTAMP:20260419T192751Z
DESCRIPTION:\nKirchenkreis: überregional\nArt der Veranstaltung: Fortbildun
 gen / Seminare / Vorträge\nVeranstaltungsort: online\n- -\nKurzbeschreibun
 g / Untertitel: Gemeindebrief\, Zeitungsveröffentlichungen\, Veranstaltung
 swerbungen mit Affinity  Publisher oder Canva gestalten?\nAusführliche Bes
 chreibung: Gemeindebrief\, Zeitungsveröffentlichungen\, Veranstaltungswerb
 ungen mit Affinity \nPublisher oder Canva gestalten? Ein Forum zum Austaus
 ch über die Öffentlichkeitsarbeit und die Entwicklung öffentlichkeitswirks
 amer Strategien für die eigene Gemeindearbeit.\nFörderbereich: Ehrenamt\nR
 eferent/in: Carola Schick\, Bildungsreferentin im eeb\nAnsprechpartner/in 
 - Leitung: Carola Schick\, Bildungsreferentin im eeb\nKosten: kostenfrei\n
 Zusatzinformationen: Anmeldungen bis 22.04.2025\nZur Teilnahme erhalten Si
 e kurz vor der Veranstaltung einen Zoom-Link.\nBitte prüfen Sie auch ihren
  SPAM-Ordner.\n: 
DTSTART;TZID=Europe/Berlin:20250429T090000
DTEND;TZID=Europe/Berlin:20250429T103000
LOCATION:-: online
SUMMARY:Öffentlichkeitsarbeit in der Kirchengemeinde: Was heißt das eigentl
 ich? :: Gemeindebrief\, Zeitungsveröffentlichungen\, Veranstaltungswerbung
 en mit Affinity  Publisher oder Canva gestalten?
URL:https://termine.ekir.de/veranstaltung_im_detail875812.html
END:VEVENT
END:VCALENDAR
