BEGIN:VCALENDAR
VERSION:2.0
PRODID:-//evangelische-termine.de//NONSGML kigkonsult.se iCalcreator 2.18//
CALSCALE:GREGORIAN
METHOD:PUBLISH
X-WR-CALNAME:iCal Evangelische-Termine 19.04.2026
X-WR-CALDESC:iCalender von Evangelische-Termine (19.04.2026)
X-WR-TIMEZONE:Europe/Berlin
X-MS-OLK-FORCEINSPECTOROPEN:TRUE
BEGIN:VTIMEZONE
TZID:Europe/Berlin
BEGIN:STANDARD
DTSTART:19701025T030000
TZOFFSETFROM:+0200
TZOFFSETTO:+0100
RRULE:FREQ=YEARLY;BYDAY=-1SU;BYMONTH=10
TZNAME:CET
END:STANDARD
BEGIN:DAYLIGHT
DTSTART:19700329T020000
TZOFFSETFROM:+0100
TZOFFSETTO:+0200
RRULE:FREQ=YEARLY;BYDAY=-1SU;BYMONTH=3
TZNAME:CEST
END:DAYLIGHT
END:VTIMEZONE
BEGIN:VEVENT
UID:20250512T000000-875813@evangelische-termine.de
DTSTAMP:20260419T192734Z
DESCRIPTION:\nKirchenkreis: überregional\nArt der Veranstaltung: Freizeiten
  / Reisen\nVeranstaltungsort: Auschwitz – Birkenau – Krakau\n Oswiecim/Pol
 en\nKurzbeschreibung / Untertitel: Geschichte vor Ort erfahren\nAusführlic
 he Beschreibung: Auschwitz war das größte nationalsozialistische Vernichtu
 ngslager\, in dem mehr als eineinhalb Millionen Menschen ermordet wurden. 
 Entsprechend steht dieser Name als Synonym für den Völkermord an den europ
 äischen Juden. Aber auch Polen\, Russen\, Sinti und Roma\, Christen\, Behi
 nderte\, Homosexuelle... sind hier dem Rassenwahn der Nationalsozialisten 
 zum Opfer gefallen. Männer\, Frauen und Kinder.\nDie fünftägige Studienfah
 rt bietet  Ihnen die Möglichkeit\, sich mit diesem Teil der Geschichte\, a
 ufgehoben in einer Gruppe und unter fachlicher Begleitung\, auseinander zu
  setzen.\nProgramm: \n- (Entstehungs)geschichte des Stammlagers Auschwitz.
  \n- Führung durch das Stammlager Auschwitz + Länderausstellung\n- Besuch 
 Lager Auschwitz-Birkenau\n- Fahrt nach Krakau: Besuch des Schindler-Museum
  mit Zeitzeugin Niusia Horowitz\n- Stadtführung und das jüdische Viertel K
 azimierz und das ehemalige Ghetto\n- Abendessen im jüdischen Lokal Klezmer
 -Hois\, traditionellen jüdischen Lokal mit Live-Klezmermusik\n- Stadtführu
 ng Auschwitz\nZur Studienreise gehören ein Vorbereitungstreffen und ein Na
 chtreffen. Voraussichtlicher Termin des Vorbereitungstreffens im Februar/M
 ärz 2025 im Ev. Erwachsenenbildungswerk in Simmern.\nInternetadresse (eige
 ne Infos im Internet): https://eeb-sued.de/studienfahrt-2025-auschwitz-bir
 kenau-krakau/\nFörderbereich: Politik und Ethik\nReferent/in: E. Reiner En
 gelmann\, Sozialpädagoge und Schriftsteller\, www.reiner-engelmann.de\nAns
 prechpartner/in - Leitung: E. Reiner Engelmann\nKosten: ca. 930\,– € /Pers
 on\nZusatzinformationen: Anmeldung bis zum 15.02.2025\nIm Preis enthalten 
 sind:\ndie Flugkosten\; Kosten für Unterbringung und Verpflegung im Zentru
 m für Dialog und Gebet\; Eintrittsgelder für das Stammlager und Auschwitz-
 Birkenau\; Honorar für die Zeitzeugin\; Kosten für eine Exkursion nach Kra
 kau mit Stadtführung sowie ein gemeinsames Abendessen in einem jüdischen L
 okal (Änderungen sind aufgrund von Preisanpassungen bei den Flügen möglich
 ).\n\nFür die Studienreise wird Bildungsfreistellung nach dem Bildungsfrei
 stellungsgesetz Rheinland-Pfalz beantragt.\nAnsprechpartner: Kirsten Arnsw
 ald karnswald@eeb-sued.de\n06761/7019
DTSTART;VALUE=DATE:20250512
DTEND;VALUE=DATE:20250517
LOCATION:Oswiecim/Polen: Auschwitz – Birkenau – Krakau
SUMMARY:Auschwitz – Birkenau – Krakau – Studienfahrt 2025 – AUSGEBUCHT! – :
 : Geschichte vor Ort erfahren
URL:https://termine.ekir.de/veranstaltung_im_detail875813.html
END:VEVENT
END:VCALENDAR
