BEGIN:VCALENDAR
VERSION:2.0
PRODID:-//evangelische-termine.de//NONSGML kigkonsult.se iCalcreator 2.18//
CALSCALE:GREGORIAN
METHOD:PUBLISH
X-WR-CALNAME:iCal Evangelische-Termine 19.04.2026
X-WR-CALDESC:iCalender von Evangelische-Termine (19.04.2026)
X-WR-TIMEZONE:Europe/Berlin
X-MS-OLK-FORCEINSPECTOROPEN:TRUE
BEGIN:VTIMEZONE
TZID:Europe/Berlin
BEGIN:STANDARD
DTSTART:19701025T030000
TZOFFSETFROM:+0200
TZOFFSETTO:+0100
RRULE:FREQ=YEARLY;BYDAY=-1SU;BYMONTH=10
TZNAME:CET
END:STANDARD
BEGIN:DAYLIGHT
DTSTART:19700329T020000
TZOFFSETFROM:+0100
TZOFFSETTO:+0200
RRULE:FREQ=YEARLY;BYDAY=-1SU;BYMONTH=3
TZNAME:CEST
END:DAYLIGHT
END:VTIMEZONE
BEGIN:VEVENT
UID:20250519T090000-875824@evangelische-termine.de
DTSTAMP:20260419T192750Z
DESCRIPTION:\nKirchenkreis: überregional\nArt der Veranstaltung: Fortbildun
 gen / Seminare / Vorträge\nVeranstaltungsort: online\n- -\nKurzbeschreibun
 g / Untertitel: Eine grundlegende Übersicht über die Module und Funktionen
  des EKiR-Portals\nAusführliche Beschreibung: Seit 2016 bietet die Ev. Kir
 che im Rheinland mit dem EKiR-Portal für beruflich und ehrenamtlich Mitarb
 eitende in der Evangelischen Kirche im Rheinland eine Plattform für die ve
 rschiedensten digitalen Nutzungsmöglichkeiten an.\nE-Mails\, Kalender\, Au
 fgabenverwaltung\, Cloud oder Umfragen sind nur einige wenige dieser Tools
 \, die sich im EKiR-Portal an einer Stelle finden und nutzen lassen.\nDies
 e Toolsammlung wird zudem immer noch ergänzt und die bestehenden Elemente 
 z.T. erweitert.\n\nDiese Fortbildung soll helfen\, einen grundlegenden Ein
 druck von den Möglichkeiten des Portals zu bekommen sowie nähere Informati
 onen zu den wichtigsten Funktionen.\nFür die Nutzung und das seminarbeglei
 tende Ausprobieren ist ein Zugang zum EKiR-Portal notwendig.\nFörderbereic
 h: Technik\, Technologien\, Medien\nReferent/in: Kirsten Arnswald\, Pfarre
 rin\, Leiterin des eeb\nAnsprechpartner/in - Leitung: Kirsten Arnswald\, P
 farrerin\, Leiterin des eeb\nKosten: 80\,00 €\nZusatzinformationen: Anmeld
 ung bis 13.05.2025\nNach Anmeldeschluss erhalten Sie einen Zugangslink per
  Mail.\n: \nAnsprechpartner: Kirsten Arnswald karnswald@eeb-sued.de\n06761
 /7019
DTSTART;TZID=Europe/Berlin:20250519T090000
DTEND;TZID=Europe/Berlin:20250519T130000
LOCATION:-: online
SUMMARY:Einführung in das EKiR-Portal – ABGESAGT! :: Eine grundlegende Über
 sicht über die Module und Funktionen des EKiR-Portals
URL:https://termine.ekir.de/veranstaltung_im_detail875824.html
END:VEVENT
END:VCALENDAR
