BEGIN:VCALENDAR
VERSION:2.0
PRODID:-//evangelische-termine.de//NONSGML kigkonsult.se iCalcreator 2.18//
CALSCALE:GREGORIAN
METHOD:PUBLISH
X-WR-CALNAME:iCal Evangelische-Termine 19.04.2026
X-WR-CALDESC:iCalender von Evangelische-Termine (19.04.2026)
X-WR-TIMEZONE:Europe/Berlin
X-MS-OLK-FORCEINSPECTOROPEN:TRUE
BEGIN:VTIMEZONE
TZID:Europe/Berlin
BEGIN:STANDARD
DTSTART:19701025T030000
TZOFFSETFROM:+0200
TZOFFSETTO:+0100
RRULE:FREQ=YEARLY;BYDAY=-1SU;BYMONTH=10
TZNAME:CET
END:STANDARD
BEGIN:DAYLIGHT
DTSTART:19700329T020000
TZOFFSETFROM:+0100
TZOFFSETTO:+0200
RRULE:FREQ=YEARLY;BYDAY=-1SU;BYMONTH=3
TZNAME:CEST
END:DAYLIGHT
END:VTIMEZONE
BEGIN:VEVENT
UID:20250515T180000-875825@evangelische-termine.de
DTSTAMP:20260419T192756Z
DESCRIPTION:\nKirchenkreis: überregional\nArt der Veranstaltung: Fortbildun
 gen / Seminare / Vorträge\nVeranstaltungsort: online\n- -\nKurzbeschreibun
 g / Untertitel: Lernen Sie in diesem kreativen Workshop die Möglichkeiten 
 der künstlichen Intelligenz für Ihre Büchereiarbeit kennen.\nAusführliche 
 Beschreibung: Wie kann ChatGPT Ihre evangelische Bibliotheksarbeit erleich
 tern? In unserem kreativen Workshop zeigen wir Ihnen\, wie Sie mit ChatGPT
  ansprechende Presseankündigungen und Plakate für Ihre Veranstaltungen ges
 talten können. Dieser Workshop richtet sich an Mitarbeitende in evangelisc
 hen öffentlichen Büchereien\, die ihre Veranstaltungen mit minimalem Aufwa
 nd maximal bewerben möchten. Vorkenntnisse sind nicht erforderlich – bring
 en Sie einfach Ihre Neugier und Kreativität mit!\nFörderbereich: Technik\,
  Kulturtechniken\nReferent/in: Helena Schäuble\, Dr. Marion Krames\nKosten
 : 20\,– €\nZusatzinformationen: Anmeldung bis 12.05.2025\n: \nAnsprechpart
 ner: Helena Schäuble anmeldung@eeb-sued.de\nTelefon 06761/7018\nwww.eeb-su
 ed.de
DTSTART;TZID=Europe/Berlin:20250515T180000
DTEND;TZID=Europe/Berlin:20250515T200000
LOCATION:-: online
SUMMARY:ChatGPT zaubert für Ihre Bücherei: Texte für Veranstaltungsankündig
 ungen  leicht gemacht! :: Lernen Sie in diesem kreativen Workshop die Mögl
 ichkeiten der künstlichen Intelligenz für Ihre Büchereiarbeit kennen.
URL:https://termine.ekir.de/veranstaltung_im_detail875825.html
END:VEVENT
END:VCALENDAR
