BEGIN:VCALENDAR
VERSION:2.0
PRODID:-//evangelische-termine.de//NONSGML kigkonsult.se iCalcreator 2.18//
CALSCALE:GREGORIAN
METHOD:PUBLISH
X-WR-CALNAME:iCal Evangelische-Termine 19.04.2026
X-WR-CALDESC:iCalender von Evangelische-Termine (19.04.2026)
X-WR-TIMEZONE:Europe/Berlin
X-MS-OLK-FORCEINSPECTOROPEN:TRUE
BEGIN:VTIMEZONE
TZID:Europe/Berlin
BEGIN:STANDARD
DTSTART:19701025T030000
TZOFFSETFROM:+0200
TZOFFSETTO:+0100
RRULE:FREQ=YEARLY;BYDAY=-1SU;BYMONTH=10
TZNAME:CET
END:STANDARD
BEGIN:DAYLIGHT
DTSTART:19700329T020000
TZOFFSETFROM:+0100
TZOFFSETTO:+0200
RRULE:FREQ=YEARLY;BYDAY=-1SU;BYMONTH=3
TZNAME:CEST
END:DAYLIGHT
END:VTIMEZONE
BEGIN:VEVENT
UID:20250408T190000-879488@evangelische-termine.de
DTSTAMP:20260419T211143Z
DESCRIPTION:\nKirchenkreis: überregional\nArt der Veranstaltung: Fortbildun
 gen / Seminare / Vorträge\nVeranstaltungsort: Caspar-Olevian-Saal in Trier
 \nWilly-Brandt-Platz\n54290 Trier\nKurzbeschreibung / Untertitel: Prof. Dr
 . Peter Zimmerling beleuchtet Dietrich Bonhoeffers mutiges Handeln im Wide
 rstand\, geprägt von Glaube\, Verantwortung und Opferbereitschaft.\nAusfüh
 rliche Beschreibung: Inspiriert vom christlichen Glauben nahm Bonhoeffer t
 eil am Widerstand gegen Hitler. In der Konsequenz wurde er zusammen mit an
 deren Verschwörern auf persönlichen Befehl Hitlers am 9. April 1945 – unmi
 ttelbar vor Kriegsende – im KZ Flossenbürg in der bayerischen Oberpfalz hi
 ngerichtet. Bonhoeffer hatte erkannt\, dass verantwortliches Handeln als C
 hrist sich durch vier Kriterien auszeichnet: Stellvertretung\, Wirklichkei
 tsgemäßheit\, die Bereitschaft zur Schuldübernahme und zum Wagnis. Dass er
  heute der im In- und Ausland als der bekannteste deutsche Theologe des 20
 . Jahrhunderts gilt\, hat nicht zuletzt mit seinem Martyrium zu tun. Dass 
 er seine Überzeugungen mit dem Tod besiegelte\, macht ihn gerade auch in d
 er jüngeren Generation so glaubwürdig.\n\nDie Veranstaltung wird gefördert
  von der Landeszentrale für politische Bildung Rheinland-Pfalz\n\nReferent
 : Prof. Dr. Peter Zimmerling (Institut für praktische Theologie der Univer
 sität Leipzig)\nFörderbereich: Politische Bildung\nReferent/in: Prof. Dr. 
 Peter Zimmerling (Universität Leipzig)\nAnsprechpartner/in - Leitung: Mart
 in Schulte\nKosten: kostenlos
DTSTART;TZID=Europe/Berlin:20250408T190000
DTEND;TZID=Europe/Berlin:20250408T203000
LOCATION:Trier: Caspar-Olevian-Saal in Trier
SUMMARY:Dietrich Bonhoeffer (1906 –1945). Verantwortlich handeln in Kirche 
 und Gesellschaft :: Prof. Dr. Peter Zimmerling beleuchtet Dietrich Bonhoef
 fers mutiges Handeln im Widerstand\, geprägt von Glaube\, Verantwortung un
 d Opferbereitschaft.
URL:https://termine.ekir.de/veranstaltung_im_detail879488.html
END:VEVENT
END:VCALENDAR
