BEGIN:VCALENDAR
VERSION:2.0
PRODID:-//evangelische-termine.de//NONSGML kigkonsult.se iCalcreator 2.18//
CALSCALE:GREGORIAN
METHOD:PUBLISH
X-WR-CALNAME:iCal Evangelische-Termine 19.04.2026
X-WR-CALDESC:iCalender von Evangelische-Termine (19.04.2026)
X-WR-TIMEZONE:Europe/Berlin
X-MS-OLK-FORCEINSPECTOROPEN:TRUE
BEGIN:VTIMEZONE
TZID:Europe/Berlin
BEGIN:STANDARD
DTSTART:19701025T030000
TZOFFSETFROM:+0200
TZOFFSETTO:+0100
RRULE:FREQ=YEARLY;BYDAY=-1SU;BYMONTH=10
TZNAME:CET
END:STANDARD
BEGIN:DAYLIGHT
DTSTART:19700329T020000
TZOFFSETFROM:+0100
TZOFFSETTO:+0200
RRULE:FREQ=YEARLY;BYDAY=-1SU;BYMONTH=3
TZNAME:CEST
END:DAYLIGHT
END:VTIMEZONE
BEGIN:VEVENT
UID:20250520T193000-890351@evangelische-termine.de
DTSTAMP:20260419T192750Z
DESCRIPTION:\nKirchenkreis: Wied\nArt der Veranstaltung: Fortbildungen / Se
 minare / Vorträge\nVeranstaltungsort: Evangelisches Gemeindehaus Katharine
 nhof\nGrabentor 1\n53545 Linz\nKurzbeschreibung / Untertitel: Prof. Dr. Pe
 ter Zimmerling beleuchtet Dietrich Bonhoeffers mutiges Handeln im Widersta
 nd\, geprägt von Glaube\, Verantwortung und Opferbereitschaft.\nAusführlic
 he Beschreibung: Inspiriert vom christlichen Glauben nahm Bonhoeffer teil 
 am Widerstand gegen Hitler. In der Konsequenz wurde er zusammen mit andere
 n Verschwörern auf persönlichen Befehl Hitlers am 9. April 1945 – unmittel
 bar vor Kriegsende – im KZ Flossenbürg in der bayerischen Oberpfalz hinger
 ichtet. Bonhoeffer hatte erkannt\, dass verantwortliches Handeln als Chris
 t sich durch vier Kriterien auszeichnet: Stellvertretung\, Wirklichkeitsge
 mäßheit\, die Bereitschaft zur Schuldübernahme und zum Wagnis. Dass er heu
 te der im In- und Ausland als der bekannteste deutsche Theologe des 20. Ja
 hrhunderts gilt\, hat nicht zuletzt mit seinem Martyrium zu tun. Dass er s
 eine Überzeugungen mit dem Tod besiegelte\, macht ihn gerade auch in der j
 üngeren Generation so glaubwürdig.\n\nReferent: Prof. Dr. Peter Zimmerling
  (Institut für praktische Theologie der Universität Leipzig)\nFörderbereic
 h: Politische Bildung\nReferent/in: Prof. Dr. Peter Zimmerling (Universitä
 t Leipzig)\nAnsprechpartner/in - Leitung: Pfarrer Christoph C. Schwaegerma
 nn (Ev. Kirchengemeinde Linz / Bad Hönningen)\; Dr. Marion Krames (eeb Rhe
 inland-Süd)\nKosten: kostenlos
DTSTART;TZID=Europe/Berlin:20250520T193000
DTEND;TZID=Europe/Berlin:20250520T203000
LOCATION:Linz: Evangelisches Gemeindehaus Katharinenhof
SUMMARY:Dietrich Bonhoeffer (1906 –1945). Verantwortlich handeln in Kirche 
 und Gesellschaft :: Prof. Dr. Peter Zimmerling beleuchtet Dietrich Bonhoef
 fers mutiges Handeln im Widerstand\, geprägt von Glaube\, Verantwortung un
 d Opferbereitschaft.
URL:https://termine.ekir.de/veranstaltung_im_detail890351.html
END:VEVENT
END:VCALENDAR
