BEGIN:VCALENDAR
VERSION:2.0
PRODID:-//evangelische-termine.de//NONSGML kigkonsult.se iCalcreator 2.18//
CALSCALE:GREGORIAN
METHOD:PUBLISH
X-WR-CALNAME:iCal Evangelische-Termine 19.04.2026
X-WR-CALDESC:iCalender von Evangelische-Termine (19.04.2026)
X-WR-TIMEZONE:Europe/Berlin
X-MS-OLK-FORCEINSPECTOROPEN:TRUE
BEGIN:VTIMEZONE
TZID:Europe/Berlin
BEGIN:STANDARD
DTSTART:19701025T030000
TZOFFSETFROM:+0200
TZOFFSETTO:+0100
RRULE:FREQ=YEARLY;BYDAY=-1SU;BYMONTH=10
TZNAME:CET
END:STANDARD
BEGIN:DAYLIGHT
DTSTART:19700329T020000
TZOFFSETFROM:+0100
TZOFFSETTO:+0200
RRULE:FREQ=YEARLY;BYDAY=-1SU;BYMONTH=3
TZNAME:CEST
END:DAYLIGHT
END:VTIMEZONE
BEGIN:VEVENT
UID:20250318T090000-902579@evangelische-termine.de
DTSTAMP:20260419T211430Z
DESCRIPTION:\nKirchenkreis: überregional\nArt der Veranstaltung: Fortbildun
 gen / Seminare / Vorträge\nVeranstaltungsort: online\n- -\nKurzbeschreibun
 g / Untertitel: Ein einführender Überblick über die Funktionen der Datenba
 nk für Einsteiger*innen und Interessierte.\nAusführliche Beschreibung: In 
 diesem Online-Seminar erhalten Sie einen Überblick über die einzelnen Funk
 tionen und Module der Meldewesendatenbank Mewis-NT. Insbesondere wird die 
 „Such“-Maske anhand von Beispielen erläutert. Zudem werden weitere hilfrei
 che Anwendungshinweise gegeben\, die Ihnen Ihre Arbeit deutlich erleichter
 n werden.\nFalls Sie die gezeigten Inhalte parallel zur Schulung ausprobie
 ren möchten\, benötigen Sie eine Freischaltung im ekir-Portal auf die Schu
 lungsdatenbank von Mewis.\nFörderbereich: Arbeitswelt- und berufsbezogene 
 Weiterbildung\nReferent/in: Kirsten Arnswald\nAnsprechpartner/in - Leitung
 : Kirsten Arnswald\nKosten: 80\,00 €\nZusatzinformationen: Anmeldung bis 1
 7.03.2025\nNach Anmeldeschluss erhalten Sie einen Zugangslink per Mail.\n:
  \nAnsprechpartner: Kirsten Arnswald karnswald@eeb-sued.de\n06761/7019
DTSTART;TZID=Europe/Berlin:20250318T090000
DTEND;TZID=Europe/Berlin:20250318T130000
LOCATION:-: online
SUMMARY:Einführung in die Meldewesendatenbank MEWIS-NT :: Ein einführender 
 Überblick über die Funktionen der Datenbank für Einsteiger*innen und Inter
 essierte.
URL:https://termine.ekir.de/veranstaltung_im_detail902579.html
END:VEVENT
END:VCALENDAR
