BEGIN:VCALENDAR
VERSION:2.0
PRODID:-//evangelische-termine.de//NONSGML kigkonsult.se iCalcreator 2.18//
CALSCALE:GREGORIAN
METHOD:PUBLISH
X-WR-CALNAME:iCal Evangelische-Termine 19.04.2026
X-WR-CALDESC:iCalender von Evangelische-Termine (19.04.2026)
X-WR-TIMEZONE:Europe/Berlin
X-MS-OLK-FORCEINSPECTOROPEN:TRUE
BEGIN:VTIMEZONE
TZID:Europe/Berlin
BEGIN:STANDARD
DTSTART:19701025T030000
TZOFFSETFROM:+0200
TZOFFSETTO:+0100
RRULE:FREQ=YEARLY;BYDAY=-1SU;BYMONTH=10
TZNAME:CET
END:STANDARD
BEGIN:DAYLIGHT
DTSTART:19700329T020000
TZOFFSETFROM:+0100
TZOFFSETTO:+0200
RRULE:FREQ=YEARLY;BYDAY=-1SU;BYMONTH=3
TZNAME:CEST
END:DAYLIGHT
END:VTIMEZONE
BEGIN:VEVENT
UID:20250325T100000-902583@evangelische-termine.de
DTSTAMP:20260419T211334Z
DESCRIPTION:\nKirchenkreis: überregional\nArt der Veranstaltung: Fortbildun
 gen / Seminare / Vorträge\nVeranstaltungsort: online\n- -\nKurzbeschreibun
 g / Untertitel: Einführung in die Erstellung von Serienbriefen mit einer D
 atenquelle aus Excel\nAusführliche Beschreibung: Mit Computerprogrammen la
 ssen sich Routinearbeiten im gemeindlichen Verwaltungsbereich vereinfacht 
 durchführen und ansehnlich gestalten.\nIn einem Online-Seminar soll gezeig
 t und ausprobiert werden\, wie Sie Serienbriefe\, Umschläge und Etiketten 
 in Word einfach und schnell erstellen können. Filtern und sortieren Sie Da
 tensätze\, z.B. um nur Briefe für bestimmte Empfänger zu erstellen. Erfahr
 en Sie\, wie Sie Ihre bestehende Datenquelle für Serienbriefe nutzbar mach
 en. Außerdem erhalten Sie nützliche Tipps zum Arbeiten mit Excel.\nDiese E
 DV-Schulung ist offen für alle Interessierten\, die Serienbriefe gestalten
  wollen und insbesondere für Mitarbeiter*innen in (kirchengemeindlichen) V
 erwaltungsbereichen gedacht.\nFörderbereich: Arbeitswelt- und berufsbezoge
 ne Weiterbildung\nReferent/in: Kirsten Arnswald\, Pfarrerin und Leiterin d
 es eeb\nAnsprechpartner/in - Leitung: Kirsten Arnswald\nKosten: 40\,00 €\n
 Zusatzinformationen: Anmeldung bis 18.03.2025 \nNach Anmeldeschluss erhalt
 en Sie einen Zugangslink per Mail.\n: \nAnsprechpartner: Kirsten Arnswald 
 karnswald@eeb-sued.de\n06761/7019
DTSTART;TZID=Europe/Berlin:20250325T100000
DTEND;TZID=Europe/Berlin:20250325T120000
LOCATION:-: online
SUMMARY:Serienbrief mit MS-Word und Excel :: Einführung in die Erstellung v
 on Serienbriefen mit einer Datenquelle aus Excel
URL:https://termine.ekir.de/veranstaltung_im_detail902583.html
END:VEVENT
END:VCALENDAR
