BEGIN:VCALENDAR
VERSION:2.0
PRODID:-//evangelische-termine.de//NONSGML kigkonsult.se iCalcreator 2.18//
CALSCALE:GREGORIAN
METHOD:PUBLISH
X-WR-CALNAME:iCal Evangelische-Termine 19.04.2026
X-WR-CALDESC:iCalender von Evangelische-Termine (19.04.2026)
X-WR-TIMEZONE:Europe/Berlin
X-MS-OLK-FORCEINSPECTOROPEN:TRUE
BEGIN:VTIMEZONE
TZID:Europe/Berlin
BEGIN:STANDARD
DTSTART:19701025T030000
TZOFFSETFROM:+0200
TZOFFSETTO:+0100
RRULE:FREQ=YEARLY;BYDAY=-1SU;BYMONTH=10
TZNAME:CET
END:STANDARD
BEGIN:DAYLIGHT
DTSTART:19700329T020000
TZOFFSETFROM:+0100
TZOFFSETTO:+0200
RRULE:FREQ=YEARLY;BYDAY=-1SU;BYMONTH=3
TZNAME:CEST
END:DAYLIGHT
END:VTIMEZONE
BEGIN:VEVENT
UID:20250410T180000-902712@evangelische-termine.de
DTSTAMP:20260419T211334Z
DESCRIPTION:\nKirchenkreis: überregional\nArt der Veranstaltung: Fortbildun
 gen / Seminare / Vorträge\nVeranstaltungsort: online\n- -\nKurzbeschreibun
 g / Untertitel: Gesellschaftsspiele für Ihren Büchereibestand sinnvoll aus
 wählen und erfolgreich verleihen.\nAusführliche Beschreibung: Kaum ein Med
 ium hat in den letzten Jahren so an Bedeutung gewonnen\, wie das Spiel. Ab
 er welche Spieleneuheiten sind für die Ausleihe geeignet? Und wie funktion
 ieren sie? Unterhaltsam\, fachbezogen und fundiert stellen Ihnen die Refer
 enten Martina und Andreas Silbermann eine „bunte Mischung“ der Spieleneuhe
 iten vor. Erklärt werden die Funktionsweise und Einsatzmöglichkeit der kon
 ventionellen Brettspiele\, wertvolle Tipps gegeben und Fragen rund um das 
 Thema Spiele in der Ausleihe beantwortet. Erleben Sie LIVE unterhaltsam un
 d fundiert die besten Gesellschaftsspiele auf Ihrem Monitor und tauschen S
 ie sich dabei mit Ihren KollegInnen im Chat aus.\nInternetadresse (eigene 
 Infos im Internet): https://eeb-sued.de/veranstaltungen/\nFörderbereich: S
 chlüsselqualifikationen mit den Komponenten Sprachen und Medien\nReferent/
 in: Martina und Andreas Silbermann\nAnsprechpartner/in - Leitung: Helena S
 chäuble (Bildungsreferentin Büchereiarbeit im eeb)\nKosten: 20\,00€\nZusat
 zinformationen: Anmeldungen bis 27.03.2025 über die Homepage des evangelis
 chen Erwachsenenbildungswerk Rheinland-Süd (https://eeb-sued.de/veranstalt
 ungen/)\nSie erhalten anschließend eine Anmeldebestätigung sowie einige Ta
 ge vor der Veranstaltung den Zugangslink für die online Plattform Zoom.\n:
  
DTSTART;TZID=Europe/Berlin:20250410T180000
DTEND;TZID=Europe/Berlin:20250410T200000
LOCATION:-: online
SUMMARY:Let’s Play! Gesellschaftsspiele für die Bücherei :: Gesellschaftssp
 iele sinnvoll auswählen und erfolgreich verleihen.
URL:https://termine.ekir.de/veranstaltung_im_detail902712.html
END:VEVENT
END:VCALENDAR
