BEGIN:VCALENDAR
VERSION:2.0
PRODID:-//evangelische-termine.de//NONSGML kigkonsult.se iCalcreator 2.18//
CALSCALE:GREGORIAN
METHOD:PUBLISH
X-WR-CALNAME:iCal Evangelische-Termine 19.04.2026
X-WR-CALDESC:iCalender von Evangelische-Termine (19.04.2026)
X-WR-TIMEZONE:Europe/Berlin
X-MS-OLK-FORCEINSPECTOROPEN:TRUE
BEGIN:VTIMEZONE
TZID:Europe/Berlin
BEGIN:STANDARD
DTSTART:19701025T030000
TZOFFSETFROM:+0200
TZOFFSETTO:+0100
RRULE:FREQ=YEARLY;BYDAY=-1SU;BYMONTH=10
TZNAME:CET
END:STANDARD
BEGIN:DAYLIGHT
DTSTART:19700329T020000
TZOFFSETFROM:+0100
TZOFFSETTO:+0200
RRULE:FREQ=YEARLY;BYDAY=-1SU;BYMONTH=3
TZNAME:CEST
END:DAYLIGHT
END:VTIMEZONE
BEGIN:VEVENT
UID:20250401T100000-903940@evangelische-termine.de
DTSTAMP:20260419T211255Z
DESCRIPTION:\nKirchenkreis: überregional\nArt der Veranstaltung: Fortbildun
 gen / Seminare / Vorträge\nVeranstaltungsort: online\n- -\nKurzbeschreibun
 g / Untertitel: MEWIS-NT Basiskurs zu den Modulen Kirchenbuch und K-Meld\n
 Ausführliche Beschreibung: In diesem Online-Seminar erhalten Sie einen Übe
 rblick speziell zu den Modulen Kirchenbuch und K-Meld der Meldewesendatenb
 ank MEWIS-NT.\nFörderbereich: Technik\, Technologien\, Medien\nReferent/in
 : Kirsten Arnswald\nAnsprechpartner/in - Leitung: Kirsten Arnswald\nKosten
 : 35\,– €\nZusatzinformationen: Anmeldung bis 27.03.2025\n: \nAnsprechpart
 ner: Kirsten Arnswald karnswald@eeb-sued.de\n06761/7019
DTSTART;TZID=Europe/Berlin:20250401T100000
DTEND;TZID=Europe/Berlin:20250401T113000
LOCATION:-: online
SUMMARY:Einführung in die Meldewesendatenbank MEWIS-NT Kirchenbuch und K-Me
 ld :: Ein einführender Überblick über die Funktionen des MEWIS-Kirchenbuch
 s für Einsteiger:innen und Interessierte.
URL:https://termine.ekir.de/veranstaltung_im_detail903940.html
END:VEVENT
END:VCALENDAR
