BEGIN:VCALENDAR
VERSION:2.0
PRODID:-//evangelische-termine.de//NONSGML kigkonsult.se iCalcreator 2.18//
CALSCALE:GREGORIAN
METHOD:PUBLISH
X-WR-CALNAME:iCal Evangelische-Termine 19.04.2026
X-WR-CALDESC:iCalender von Evangelische-Termine (19.04.2026)
X-WR-TIMEZONE:Europe/Berlin
X-MS-OLK-FORCEINSPECTOROPEN:TRUE
BEGIN:VTIMEZONE
TZID:Europe/Berlin
BEGIN:STANDARD
DTSTART:19701025T030000
TZOFFSETFROM:+0200
TZOFFSETTO:+0100
RRULE:FREQ=YEARLY;BYDAY=-1SU;BYMONTH=10
TZNAME:CET
END:STANDARD
BEGIN:DAYLIGHT
DTSTART:19700329T020000
TZOFFSETFROM:+0100
TZOFFSETTO:+0200
RRULE:FREQ=YEARLY;BYDAY=-1SU;BYMONTH=3
TZNAME:CEST
END:DAYLIGHT
END:VTIMEZONE
BEGIN:VEVENT
UID:20250526T090000-905815@evangelische-termine.de
DTSTAMP:20260419T193448Z
DESCRIPTION:\nKirchenkreis: überregional\nArt der Veranstaltung: Fortbildun
 gen / Seminare / Vorträge\nVeranstaltungsort: Ev. Erwachsenenbildungswerk 
 Rheinland-Süd e.V.\, Simmern\nHerzog-Reichard-Str. 30\n55469 Simmern\nKurz
 beschreibung / Untertitel: In unserer schnelllebigen wie auch besonderen Z
 eit tut es uns und vor allem\, auch den Kindern gut\, sich kleine Phasen d
 er Ruhe und Entspannung zu gönnen.\nAusführliche Beschreibung: „Fantasie i
 st wichtiger als Wissen\, denn Wissen ist begrenzt“\, \n	Albert Einstein\n
 \nIn unserer schnelllebigen wie auch besonderen Zeit tut es uns und vor al
 lem\, auch den Kindern gut\, sich kleine Phasen der Ruhe und Entspannung z
 u gönnen.\nSich auf Ruhe einlassen\, den eigenen Körper spüren und dadurch
  neue Kraft tanken\, wirkt sich positiv auf Vieles aus\, u.a. auf das Selb
 stvertrauen\, die Körperwahrnehmung oder die Resilienz.\n\nGemeinsam auspr
 obieren werden wir:\n>	Spiele und Übungen zum Einstieg\n>	Wahrnehmungs- und 
 Atemübungen\n>	Massagegeschichten und -spiele\n>	Fantasiereisen\n>	Klanggesch
 ichten\n>	Kleine Übungen aus der Kinesiologie\n>	Yoga für Kinder\n>	Einblicke
  in Entspannungstechniken des Autogenen Trainings und der \n>	Progressiven 
 Muskelentspannung\n\nAußerdem:\n>	Aufbau einer Entspannungseinheit\n>	Zeit f
 ür Ideen- und Erfahrungsaustausch\n\nBitte mitbringen:\nMatte/Unterlage\, 
 Kissen für Kopf und Kniekehlen\, Decke\, warme Socken\nFörderbereich: Arbe
 itswelt- und berufsbezogene Weiterbildung\nReferent/in: Carina Stützel\, E
 rzieherin\, Entspannungspädagogin und Fachkraft für offene Arbeit\nKosten:
  80\,– €\nZusatzinformationen: Anmeldung bis 12.05.2025\n: \nAnsprechpartn
 er: Carola Schick eeb-sued@eeb-sued.de
DTSTART;TZID=Europe/Berlin:20250526T090000
DTEND;TZID=Europe/Berlin:20250526T163000
LOCATION:Simmern: Ev. Erwachsenenbildungswerk Rheinland-Süd e.V.\, Simmern
SUMMARY:„Willkommen auf deiner Ruhe-Insel“ :: In unserer schnelllebigen wie
  auch besonderen Zeit tut es uns und vor allem\, auch den Kindern gut\, si
 ch kleine Phasen der Ruhe und Entspannung zu gönn
URL:https://termine.ekir.de/veranstaltung_im_detail905815.html
END:VEVENT
END:VCALENDAR
