BEGIN:VCALENDAR
VERSION:2.0
PRODID:-//evangelische-termine.de//NONSGML kigkonsult.se iCalcreator 2.18//
CALSCALE:GREGORIAN
METHOD:PUBLISH
X-WR-CALNAME:iCal Evangelische-Termine 19.04.2026
X-WR-CALDESC:iCalender von Evangelische-Termine (19.04.2026)
X-WR-TIMEZONE:Europe/Berlin
X-MS-OLK-FORCEINSPECTOROPEN:TRUE
BEGIN:VTIMEZONE
TZID:Europe/Berlin
BEGIN:STANDARD
DTSTART:19701025T030000
TZOFFSETFROM:+0200
TZOFFSETTO:+0100
RRULE:FREQ=YEARLY;BYDAY=-1SU;BYMONTH=10
TZNAME:CET
END:STANDARD
BEGIN:DAYLIGHT
DTSTART:19700329T020000
TZOFFSETFROM:+0100
TZOFFSETTO:+0200
RRULE:FREQ=YEARLY;BYDAY=-1SU;BYMONTH=3
TZNAME:CEST
END:DAYLIGHT
END:VTIMEZONE
BEGIN:VEVENT
UID:20250520T150000-912151@evangelische-termine.de
DTSTAMP:20260419T192611Z
DESCRIPTION:\nKirchenkreis: überregional\nArt der Veranstaltung: Fortbildun
 gen / Seminare / Vorträge\nVeranstaltungsort: online\n- -\nKurzbeschreibun
 g / Untertitel: Tipps und Anwendungen wie der Büroalltag papierloser gesta
 ltet werden kann.\nAusführliche Beschreibung: Gemeinsam entdecken und disk
 utieren wir unterschiedliche Tipps und Anwendungen wie wir unseren Büroall
 tag papierloser gestalten können.\nInhaltlich thematisieren wir Bereiche w
 ie die Terminplanung\, das eigene Aufgabenmanagement und die Dateiablage.
 \nInternetadresse (eigene Infos im Internet): http://www.elag.de\nFörderbe
 reich: Arbeitswelt- und berufsbezogene Weiterbildung\nReferent/in: Christi
 an Gisinger\, ELAG\nCarola Schick\, eeb\nAnsprechpartner/in - Leitung: Car
 ola Schick\, eeb\nKosten: kostenfrei\nZusatzinformationen: Anmeldung bis z
 um 13.05.2025 unter https://elag.de/auf-dem-weg-zum-papierlosen-buero-tipp
 s-und-tricks/\n: \nAnsprechpartner: Carola Schick eeb-sued@eeb-sued.de
DTSTART;TZID=Europe/Berlin:20250520T150000
DTEND;TZID=Europe/Berlin:20250520T170000
LOCATION:-: online
SUMMARY:Auf dem Weg zum papierlosen Büro :: Tipps und Anwendungen wie der B
 üroalltag papierloser gestaltet werden kann.
URL:https://termine.ekir.de/veranstaltung_im_detail912151.html
END:VEVENT
END:VCALENDAR
