BEGIN:VCALENDAR
VERSION:2.0
PRODID:-//evangelische-termine.de//NONSGML kigkonsult.se iCalcreator 2.18//
CALSCALE:GREGORIAN
METHOD:PUBLISH
X-WR-CALNAME:iCal Evangelische-Termine 19.04.2026
X-WR-CALDESC:iCalender von Evangelische-Termine (19.04.2026)
X-WR-TIMEZONE:Europe/Berlin
X-MS-OLK-FORCEINSPECTOROPEN:TRUE
BEGIN:VTIMEZONE
TZID:Europe/Berlin
BEGIN:STANDARD
DTSTART:19701025T030000
TZOFFSETFROM:+0200
TZOFFSETTO:+0100
RRULE:FREQ=YEARLY;BYDAY=-1SU;BYMONTH=10
TZNAME:CET
END:STANDARD
BEGIN:DAYLIGHT
DTSTART:19700329T020000
TZOFFSETFROM:+0100
TZOFFSETTO:+0200
RRULE:FREQ=YEARLY;BYDAY=-1SU;BYMONTH=3
TZNAME:CEST
END:DAYLIGHT
END:VTIMEZONE
BEGIN:VEVENT
UID:20250506T190000-912154@evangelische-termine.de
DTSTAMP:20260419T193429Z
DESCRIPTION:\nKirchenkreis: Altenkirchen\nArt der Veranstaltung: Fortbildun
 gen / Seminare / Vorträge\nVeranstaltungsort: Ev. Gemeindezentrum Flammers
 feld\nRaiffeisenstr. 48\n57632 Flammersfeld\nKurzbeschreibung / Untertitel
 : Aus der Reihe Gott und die Welt\, Gesprächsreihe der Ev. Kgm. Flammersfe
 ld\nAusführliche Beschreibung: Mit Bonn als damaliger Bundeshauptstadt lag
  das Kirchengebiet dieser großen westdeutschen Landeskirche in einer geopo
 litisch sensiblen Region. Dies wirft die Frage auf\, inwieweit die DDR-Sta
 atssicherheit in diesem Kontext an der Evangelischen Kirche im Rheinland i
 nteressiert war. Der Vortrag gibt Einblick in ein von der Landeskirche ini
 tiiertes Forschungsprojekt und skizziert anhand von Fallbeispielen und aus
 gewählter Stasiakten\, wie sich das Interesse der DDR im Rahmen der Westar
 beit des Ministeriums für Staatssicherheit manifestierte.\n Unser Referent
  ist Timo Runkel\, Historiker\, stellv. Akademieleiter und Studienleiter R
 eferat „Land und Kirche“ in Altenkirchen.\nFörderbereich: Politische Bildu
 ng\nReferent/in: Timo Runkel\, Historiker\, stellv. Akademieleiter und Stu
 dienleiter Referat „Land und Kirche“ in Altenkirchen\nKosten: kostenfrei\n
 Zusatzinformationen: Keine Anmeldung erforderlich
DTSTART;TZID=Europe/Berlin:20250506T190000
DTEND;TZID=Europe/Berlin:20250506T200000
LOCATION:Flammersfeld: Ev. Gemeindezentrum Flammersfeld
SUMMARY:Die Evangelische Kirche im Rheinland im Fokus der Stasi? :: Aus der
  Reihe Gott und die Welt\, Gesprächsreihe der Ev. Kgm. Flammersfeld
URL:https://termine.ekir.de/veranstaltung_im_detail912154.html
END:VEVENT
END:VCALENDAR
